BEGIN:VCALENDAR
VERSION:2.0
PRODID:-//wp-events-plugin.com//7.2.3.1//EN
TZID:Europe/Berlin
X-WR-TIMEZONE:Europe/Berlin
BEGIN:VEVENT
UID:11877@literaturseiten-muenchen.de
DTSTART;TZID=Europe/Berlin:20251114T190000
DTEND;TZID=Europe/Berlin:20251114T203000
DTSTAMP:20251006T115118Z
URL:https://www.literaturseiten-muenchen.de/veranstaltungen/der-absturz-le
 sung-mit-edouard-louis/
SUMMARY:»Der Absturz« Lesung mit Édouard Louis
DESCRIPTION:Lesung: Thomas Hauser (Residenztheater)\nModeration: Sonja Finc
 k\n\nDer Bruder stirbt – und die Trauer bleibt lange Zeit aus. In seinem
  neuen Roman schreibt Frankreichs Literatur-Star Édouard Louis erneut ent
 lang der eigenen Geschichte und stellt dabei die ganz großen\, allgemeing
 ültigen Fragen: Kann man seiner Familie entkommen? Wann beginnt ein Mensc
 h zu hassen? Früh in ein Leben ohne Aufstiegschancen gedrängt\, patriarc
 halisch geprägt und abgehärtet\, erträumt sich der Bruder ein größere
 s Leben. Bis er mit achtunddreißig Jahren tot in seiner kleinen Wohnung a
 ufgefunden wird. Édouard Louis erzählt die Geschichte dieses Zusammenbru
 chs mit großem psychologischem Gespür. »Der Absturz« (Aufbau // dt. vo
 n Sonja Finck) ist ein zorniges Buch über Klassismus und Ausgrenzung und 
 zugleich ein zärtliches Porträt des Bruders.\n\nTickets erhältlich unte
 r Reservix\nEINTRITT: EURO 20.- / 10.-\nSTREAM-TICKETS: EURO 8.-\n\nVerans
 talter: Stiftung Literaturhaus // in Kooperation mit dem Institut françai
 s de Munich
CATEGORIES:Buchpräsentation,Gespräch / Diskussion,Lesung
LOCATION:Literaturhaus\, Salvatorplatz 1\, München\, 80333\, Deutschland
GEO:48.142051;11.574991
X-APPLE-STRUCTURED-LOCATION;VALUE=URI;X-ADDRESS=Salvatorplatz 1\, München\
 , 80333\, Deutschland;X-APPLE-RADIUS=100;X-TITLE=Literaturhaus:geo:48.1420
 51,11.574991
END:VEVENT
BEGIN:VTIMEZONE
TZID:Europe/Berlin
X-LIC-LOCATION:Europe/Berlin
BEGIN:STANDARD
DTSTART:20251026T020000
TZOFFSETFROM:+0200
TZOFFSETTO:+0100
TZNAME:CET
END:STANDARD
END:VTIMEZONE
END:VCALENDAR