BEGIN:VCALENDAR
VERSION:2.0
PRODID:-//wp-events-plugin.com//7.2.3.1//EN
TZID:Europe/Berlin
X-WR-TIMEZONE:Europe/Berlin
BEGIN:VEVENT
UID:12385@literaturseiten-muenchen.de
DTSTART;TZID=Europe/Berlin:20260218T180000
DTEND;TZID=Europe/Berlin:20260218T193000
DTSTAMP:20260117T195632Z
URL:https://www.literaturseiten-muenchen.de/veranstaltungen/der-deutsche-t
 ycoon-hollywood-1932-hoerbahn-on-stage/
SUMMARY:Der deutsche Tycoon: Hollywood 1932 – Hörbahn on Stage
DESCRIPTION:Privatdetektiv Hardy Engel würde für seine Freunde alles tun.
  Als einer von ihnen stirbt\, verbeißt er sich in einen Mordfall\, der ba
 ld schon legendär wird.\n\nAls Hardy Engel 1920 nach Amerika einwanderte\
 , bekam er dabei entscheidende Hilfe von seinem Landsmann Paul Levy\, den 
 er danach aus den Augen verlor. 1932 trifft Engel\, inzwischen Privatdetek
 tiv\, ihn wieder. Levy ist unter dem Namen Paul Bern zu einem mächtigen F
 ilmproduzenten von Metro-Goldwyn-Mayer geworden – und Ehemann von Hollyw
 ood-Superstar Jean Harlow. Mitten in der Weltwirtschaftskrise scheint es\,
  als sei das Wiedersehen ein Glücksfall für den arbeitslosen Detektiv\, 
 der von Paul einen lukrativen Auftrag bekommt. Und auch für seinen Freund
 \, den Barbesitzer Buck\, der massive Schulden bei der Mafia hat. Doch dan
 n liegt Paul ermordet in seiner Villa\, und Hardy wird in einen Fall hinei
 ngezogen\, der ihn fordert wie noch keiner zuvor und der alte Freundschaft
 en infrage stellt …\n\nDie AutorInnen lesen ca. 20-30 Minuten aus ihren 
 Werken. Anschließend erzählen die Gäste in einem ausführlichen Gesprä
 ch (bis zu 60 Minuten lang über die Entstehung ihrer Bücher\, Recherchen
 \, Hindernisse\, ihre Art zu schreiben\, Herausforderungen\, Figuren\, Plo
 ts und ihr persönliches Leben\, den Literaturbetrieb uvm.\n\nEintritt fre
 i.
CATEGORIES:Gespräch / Diskussion,Lesung
LOCATION:Bayerische Einigung e.V.\, Georgenstr. 63\, München\, 80799\, Deu
 tschland
GEO:48.156128;11.571449
X-APPLE-STRUCTURED-LOCATION;VALUE=URI;X-ADDRESS=Georgenstr. 63\, München\,
  80799\, Deutschland;X-APPLE-RADIUS=100;X-TITLE=Bayerische Einigung e.V.:g
 eo:48.156128,11.571449
END:VEVENT
BEGIN:VTIMEZONE
TZID:Europe/Berlin
X-LIC-LOCATION:Europe/Berlin
BEGIN:STANDARD
DTSTART:20251026T020000
TZOFFSETFROM:+0200
TZOFFSETTO:+0100
TZNAME:CET
END:STANDARD
END:VTIMEZONE
END:VCALENDAR