BEGIN:VCALENDAR
VERSION:2.0
PRODID:-//wp-events-plugin.com//7.2.3.1//EN
TZID:Europe/Berlin
X-WR-TIMEZONE:Europe/Berlin
BEGIN:VEVENT
UID:12679@literaturseiten-muenchen.de
DTSTART;TZID=Europe/Berlin:20260418T100000
DTEND;TZID=Europe/Berlin:20260418T170000
DTSTAMP:20260304T130543Z
URL:https://www.literaturseiten-muenchen.de/veranstaltungen/der-grossartig
 e-erste-satz-und-dann/
SUMMARY:Der (großartige) erste Satz - und dann?
DESCRIPTION:Ob Kurzgeschichte\, Biografie oder Roman\, der erste Satz muss 
 auf Anhieb Interesse wecken. Er soll neugierig machen\, denn er ist der T
 üröffner zum Weiterlesen. Trifft er wirklich den Ton der Geschichte\, un
 d wie soll jetzt weitererzählt werden? Mit einer Figur oder einem Ort? Un
 d in welcher Reihenfolge\, damit die Leserinnen und Leser bis zum letzten 
 Satz gefesselt sind? Mit einer erfahrenen Autorin und Lektorin gehen wir g
 emeinsam dem Geheimnis dieses ersten Satzes anhand von unterschiedlichen S
 chreibübungen auf den Grund.\n\nKursnummer: W246230\n\nDozentin: Angela E
 ßer\n\nGebühr: € 59\,-\n\nWeitere Informationen finden Sie unter: htt
 ps://www.mvhs.de/kurse/kultur-kunst-kreativitaet/kreatives-schreiben/schre
 ibtechniken/der-grossartige-erste-satz-und-dann-460-C-W246230\n\n&nbsp\;
CATEGORIES:Schreibwerkstatt
LOCATION:Trafo Neuhausen - Kultur-im-Trafo\, Nymphenburgerstr. 171a\, Münc
 hen\, 80634\, Deutschland
GEO:48.155224;11.531664
X-APPLE-STRUCTURED-LOCATION;VALUE=URI;X-ADDRESS=Nymphenburgerstr. 171a\, M
 ünchen\, 80634\, Deutschland;X-APPLE-RADIUS=100;X-TITLE=Trafo Neuhausen -
  Kultur-im-Trafo:geo:48.155224,11.531664
END:VEVENT
BEGIN:VTIMEZONE
TZID:Europe/Berlin
X-LIC-LOCATION:Europe/Berlin
BEGIN:DAYLIGHT
DTSTART:20260329T030000
TZOFFSETFROM:+0100
TZOFFSETTO:+0200
TZNAME:CEST
END:DAYLIGHT
END:VTIMEZONE
END:VCALENDAR