BEGIN:VCALENDAR
VERSION:2.0
PRODID:-//wp-events-plugin.com//7.2.3.1//EN
TZID:Europe/Berlin
X-WR-TIMEZONE:Europe/Berlin
BEGIN:VEVENT
UID:11892@literaturseiten-muenchen.de
DTSTART;TZID=Europe/Berlin:20251112T190000
DTEND;TZID=Europe/Berlin:20251112T203000
DTSTAMP:20251007T140357Z
URL:https://www.literaturseiten-muenchen.de/veranstaltungen/der-juedische-
 buchklub-mit-dana-von-suffrin-philipp-lenhard/
SUMMARY:»Der jüdische Buchklub« Mit Dana von Suffrin &amp\; Philipp Lenh
 ard
DESCRIPTION:Als Gast: Lina Larissa Strahl\n\nDer zweite Abend innerhalb der
  neuen Reihe im Literaturhaus München: Der Historiker Philipp Lenhard (»
 Café Marx«// C.H.Beck) und die Schriftstellerin Dana von Suffrin (»Noch
 mal von vorne« // Kiepenheuer &amp\; Witsch) empfehlen\, diskutieren und 
 kritisieren Bücher zu jüdischer Geschichte und Kultur. Auf den Tisch kom
 men wiederentdeckte Klassiker\, brandaktuelle Sachbücher\, belletristisch
 e Neuerscheinungen und überraschende Ausreißer.\n\nAls Gast ist dabei: D
 ie Singer- Songwriterin (»Lina«) und Schauspielerin Lina Larissa Strahl 
 (u.a. Bibi Blocksberg in der Bibi &amp\; Tina Reihe). Vorgestellt und disk
 utiert werden: Eva Illouz: »Der 8. Oktober« (Suhrkamp/ Insel 2025 // dt.
  von Michael Adrian) // Robert Crumb: »Kafka« (Reprodukt 2024 // dt. von
  Ursula Grützmacher-Tabori\, Handlettering von Marianne Nuß) // Isaac B.
  Singer: »Feinde\, die Geschichte einer Liebe« (Hanser 1978 // dt. von W
 ulf Teichmann) // Dmitrij Kapitelman: »Russische Spezialitäten« (Hanser
  2025).\n\n&nbsp\;\n\nTickets erhältlich unter Reservix\nEINTRITT: EURO 1
 6.- / 10.-Veranstalter: Stiftung Literaturhaus // in Kooperation mit dem L
 ehrstuhl für Jüdische Geschichte und Kultur der LMU\n\nAus der Reihe: DE
 R JÜDISCHE BUCHKLUB\n
CATEGORIES:Buchpräsentation,Gespräch / Diskussion,Lesung
LOCATION:Literaturhaus München\, Salvatorplatz 1\, München\, Bayern\, 803
 33\, Deutschland
GEO:48.142051;11.574991
X-APPLE-STRUCTURED-LOCATION;VALUE=URI;X-ADDRESS=Salvatorplatz 1\, München\
 , Bayern\, 80333\, Deutschland;X-APPLE-RADIUS=100;X-TITLE=Literaturhaus M
 ünchen:geo:48.142051,11.574991
END:VEVENT
BEGIN:VTIMEZONE
TZID:Europe/Berlin
X-LIC-LOCATION:Europe/Berlin
BEGIN:STANDARD
DTSTART:20251026T020000
TZOFFSETFROM:+0200
TZOFFSETTO:+0100
TZNAME:CET
END:STANDARD
END:VTIMEZONE
END:VCALENDAR