BEGIN:VCALENDAR
VERSION:2.0
PRODID:-//wp-events-plugin.com//7.2.3.1//EN
TZID:Europe/Berlin
X-WR-TIMEZONE:Europe/Berlin
BEGIN:VEVENT
UID:12056@literaturseiten-muenchen.de
DTSTART;TZID=Europe/Berlin:20251201T190000
DTEND;TZID=Europe/Berlin:20251201T203000
DTSTAMP:20251103T152046Z
URL:https://www.literaturseiten-muenchen.de/veranstaltungen/der-nahost-kom
 plex-ein-abend-mit-natalie-amiri/
SUMMARY:»Der Nahost-Komplex« Ein Abend mit Natalie Amiri
DESCRIPTION:Moderation: Navid Kermani\n\nWenige Tage nach dem Sturz des As
 sad-Regimes ist Natalie Amiri nach Syrien gereist. Sie hat dort Menschen g
 etroffen\, die aufatmen. Ihre Reise führte sie weiter nach Israel und ins
  besetzte Westjordanland. Sie traf sich mit dem ehemaligen israelischen Pr
 emierminister Ehud Olmert und mit Basel Adra\, Ko-Autor des Oscar-prämier
 ten Dokumentarfilms »No Other Land«. Mit diesem außergewöhnlichen Buch
  (Penguin) gelingt Natalie Amiri etwas Großes: Sie vermittelt zwischen de
 n Welten und weckt Empathie – für alle Seiten. Wir hören sie im Gespr
 äch mit dem Orientalisten und Friedenspreisträger Navid Kermani.\n\n»Na
 talie Amiri überzeugt angesichts der Krisen im Nahen Osten durch ihre hoh
 e fachliche Kompetenz. Ihre empathischen und schonungslosen Analysen sind 
 ein Gewinn für das Publikum!«\nBegründung der Jury für die Wahl zur Po
 litikjournalistin des Jahres 2024\n\nTickets erhältlich unter ReserviX\nE
 INTRITT: EURO 16.- / 10.-\nSTREAM-TICKETS: EURO 8.-\n\nBÜCHERTISCH: Büch
 ergalerie Westend\n\nVeranstalter: Stiftung Literaturhaus
CATEGORIES:Buchpräsentation,Gespräch / Diskussion,Lesung,Vortrag
LOCATION:Literaturhaus München\, Salvatorplatz 1\, München\, Bayern\, 803
 33\, Deutschland
GEO:48.142051;11.574991
X-APPLE-STRUCTURED-LOCATION;VALUE=URI;X-ADDRESS=Salvatorplatz 1\, München\
 , Bayern\, 80333\, Deutschland;X-APPLE-RADIUS=100;X-TITLE=Literaturhaus M
 ünchen:geo:48.142051,11.574991
END:VEVENT
BEGIN:VTIMEZONE
TZID:Europe/Berlin
X-LIC-LOCATION:Europe/Berlin
BEGIN:STANDARD
DTSTART:20251026T020000
TZOFFSETFROM:+0200
TZOFFSETTO:+0100
TZNAME:CET
END:STANDARD
END:VTIMEZONE
END:VCALENDAR