BEGIN:VCALENDAR
VERSION:2.0
PRODID:-//wp-events-plugin.com//7.2.3.1//EN
TZID:Europe/Berlin
X-WR-TIMEZONE:Europe/Berlin
BEGIN:VEVENT
UID:12966@literaturseiten-muenchen.de
DTSTART;TZID=Europe/Berlin:20260513T100000
DTEND;TZID=Europe/Berlin:20260513T170000
DTSTAMP:20260420T123555Z
URL:https://www.literaturseiten-muenchen.de/veranstaltungen/der-nationalso
 zialismus-in-familie-und-gesellschaft-ein-rechercheworkshop-mit-dr-johanne
 s-spohr/
SUMMARY:Der Nationalsozialismus in Familie und Gesellschaft: Ein Recherchew
 orkshop mit Dr. Johannes Spohr
DESCRIPTION:Der Nationalsozialismus wirkt auf vielfältige Weisen bis in di
 e heutige Gesellschaft hinein. Entsprechend wächst bei vielen das Bedürf
 nis\, die Rollen ihre Familienangehörigen\, Bekannten\, Kolleg*innen oder
  Vereinsmitgliedern während dieser Zeit besser zu stehen. Archive bieten 
 hierfür wertvolle Recherchemöglichkeiten - doch der Einstieg kann heraus
 fordernd sein: Wo finde ich welche Informationen? Und wie lassen sich die 
 Ergebnisse historisch einordnen?\n\nIm Workshop erhalten die Teilnehmer*in
 nen eine fundierte Einführung in Methoden der personenbezogenen NS-Recher
 che. Der Historiker Johannes Spohr vermittelt Grundlagen\, gibt praktische
  Tipps und geht auf individuelle Fragen zur Recherche ein.\n\nDer Workshop
  ist auf 15 Teilnehmer*innen begrenzt.\n\nAnmeldung mit kurzer Motivation 
 per E-Mail an monacensia.programm@muenchen.de
CATEGORIES:Gespräch / Diskussion,Weitere Veranstaltungen
LOCATION:Monacensia im Hildebrandhaus\, Maria-Theresia-Str. 23\, München\,
  Deutschland
GEO:48.1436397;11.598950100000024
X-APPLE-STRUCTURED-LOCATION;VALUE=URI;X-ADDRESS=Maria-Theresia-Str. 23\, M
 ünchen\, Deutschland;X-APPLE-RADIUS=100;X-TITLE=Monacensia im Hildebrandh
 aus:geo:48.1436397,11.598950100000024
END:VEVENT
BEGIN:VTIMEZONE
TZID:Europe/Berlin
X-LIC-LOCATION:Europe/Berlin
BEGIN:DAYLIGHT
DTSTART:20260329T030000
TZOFFSETFROM:+0100
TZOFFSETTO:+0200
TZNAME:CEST
END:DAYLIGHT
END:VTIMEZONE
END:VCALENDAR