BEGIN:VCALENDAR
VERSION:2.0
PRODID:-//wp-events-plugin.com//7.2.3.1//EN
TZID:Europe/Berlin
X-WR-TIMEZONE:Europe/Berlin
BEGIN:VEVENT
UID:12209@literaturseiten-muenchen.de
DTSTART;TZID=Europe/Berlin:20260423T190000
DTEND;TZID=Europe/Berlin:20260423T220000
DTSTAMP:20251204T124835Z
URL:https://www.literaturseiten-muenchen.de/veranstaltungen/der-theopoet-g
 ottfried-bachl/
SUMMARY:Der Theopoet Gottfried Bachl
DESCRIPTION:Das Jesuslibretto in aller Freiheit aufführen\n\nDer Theologe 
 und Schriftsteller Gottfried Bachl (1932-2020) war überzeugt\, dass ihn d
 er „schwierige Jesus“ befreit hat: zum Leben\, zu sich selbst\, zu den
  Mitmenschen\, zu Gott. Aus diesem Befreit-sein erklärt sich der frische\
 , unverkrampfte\, unvoreingenommene und großzügige Blick\, mit dem Bachl
  alles wahrnahm: das Menschliche\, das Abgründige\, Gott\, zugleich das E
 ntsetzliche\, Sinnlose\, Leidvolle. Kaum jemand konnte über den Holocaust
  so sprechen wie er\, nur wenige vermochten so ihre Finger in die Wunden d
 er Kirche zu legen.\n\nSo wurde Bachl zum inspirierenden\, aber auch aneck
 enden und irritierenden Zeitgenossen. Was er am „schwierigen Jesus“ wa
 hrnahm\, traf zugleich auf ihn zu: das gelegentlich Schroffe\, Abweisende\
 , mitunter Erratische. Dies alles neben einer einfühlsamen Empathie sonde
 rgleichen. Nicht von ungefähr seine Nähe zur Literatur\, die ihn zum Sch
 riftsteller werden ließ. An diesem Abend wird der Theologe und Theopoet z
 um Klingen kommen.\n\nAnmeldung unter: https://kath-akademie-bayern.de/ver
 anstaltung/der-theopoet-gottfried-bachl/\nEintritt frei.
CATEGORIES:Lesung
LOCATION:Katholische Akademie in Bayern\, Mandlstr. 23\, München\, 80802\,
  Deutschland
GEO:48.159982;11.59126
X-APPLE-STRUCTURED-LOCATION;VALUE=URI;X-ADDRESS=Mandlstr. 23\, München\, 8
 0802\, Deutschland;X-APPLE-RADIUS=100;X-TITLE=Katholische Akademie in Baye
 rn:geo:48.159982,11.59126
END:VEVENT
BEGIN:VTIMEZONE
TZID:Europe/Berlin
X-LIC-LOCATION:Europe/Berlin
BEGIN:DAYLIGHT
DTSTART:20260329T030000
TZOFFSETFROM:+0100
TZOFFSETTO:+0200
TZNAME:CEST
END:DAYLIGHT
END:VTIMEZONE
END:VCALENDAR