BEGIN:VCALENDAR
VERSION:2.0
PRODID:-//wp-events-plugin.com//7.2.3.1//EN
TZID:Europe/Berlin
X-WR-TIMEZONE:Europe/Berlin
BEGIN:VEVENT
UID:12066@literaturseiten-muenchen.de
DTSTART;TZID=Europe/Berlin:20251201T190000
DTEND;TZID=Europe/Berlin:20251201T201500
DTSTAMP:20251116T093932Z
URL:https://www.literaturseiten-muenchen.de/veranstaltungen/der-tod-meiner
 -mutter-von-georg-diez-sprecher-martin-pfisterer-3/
SUMMARY:DER TOD MEINER MUTTER von GEORG DIEZ | Sprecher: Martin Pfisterer
DESCRIPTION:Es waren traurige\, schöne Abschiedstage…wenn ich sie sah\, 
 wenn sie auf ihrer Terrasse saß\, auf ihrem Holzstuhl\, mit den vielen Ki
 ssen…auf dem Kopf einen Hut und meistens eine Sonnenbrille im Gesicht. E
 s wirkte so\, als habe sie nicht eine Stunde oder zwei dort gesessen\, son
 dern Tage\, Wochen\, ihr ganzes Leben lang\, auf dieser Terrasse mit dem G
 arten\, den sie so mochte.\n"Jedes Mal erschrak ich\, wenn ich sie dort si
 tzen sah\, denn jedes Mal wusste ich\, dass ich sie bald verlieren würde.
 "\nKarlstrasse 56-56 | 1. Stock | Kontakt: info@hospiz-da-sein.de\n\n--Nac
 h der Premiere am 02.12.2024 wird dieser unglaubliche Text noch einmal ges
 proche--
CATEGORIES:Lesung
LOCATION:Hospizdienst DaSein e.V.\, Dachauerstr. 55 (Ecke Karlstr.)\, Münc
 hen\, Deutschland
GEO:48.146691;11.559132
X-APPLE-STRUCTURED-LOCATION;VALUE=URI;X-ADDRESS=Dachauerstr. 55 (Ecke Karls
 tr.)\, München\, Deutschland;X-APPLE-RADIUS=100;X-TITLE=Hospizdienst DaSe
 in e.V.:geo:48.146691,11.559132
END:VEVENT
BEGIN:VTIMEZONE
TZID:Europe/Berlin
X-LIC-LOCATION:Europe/Berlin
BEGIN:STANDARD
DTSTART:20251026T020000
TZOFFSETFROM:+0200
TZOFFSETTO:+0100
TZNAME:CET
END:STANDARD
END:VTIMEZONE
END:VCALENDAR