BEGIN:VCALENDAR
VERSION:2.0
PRODID:-//wp-events-plugin.com//7.2.3.1//EN
TZID:Europe/Berlin
X-WR-TIMEZONE:Europe/Berlin
BEGIN:VEVENT
UID:11653@literaturseiten-muenchen.de
DTSTART;TZID=Europe/Berlin:20251025T100000
DTEND;TZID=Europe/Berlin:20251026T170000
DTSTAMP:20250828T131111Z
URL:https://www.literaturseiten-muenchen.de/veranstaltungen/dialoge-schrei
 ben-2/
SUMMARY:Dialoge schreiben
DESCRIPTION:Dialoge sind das Salz in der Suppe einer Geschichte. Sie machen
  die Figuren lebendig\, treiben die Handlung voran\, steigern die Spannung
  und können Takt und Tempo einer Erzählung vorgeben. In diesem Workshop 
 lernen Sie das Handwerk des Dialogschreibens kennen und entwickeln in Übu
 ngen eigene Dialoge. Die Teilnehmenden können auch bereits geschriebene S
 zenen einbringen.\n\nKursnummer: V246100\n\nDozentin: Caroline Mascher\n\n
 Gebühr: € 99\,-\n\nWeitere Informationen erhalten Sie unter: https://w
 ww.mvhs.de/?\n\n&nbsp\;
CATEGORIES:Schreibwerkstatt
LOCATION:MVHS Sendling\, Albert-Roßhaupter-Str. 8\, München\, Bayern\, De
 utschland
GEO:48.117097;11.537813
X-APPLE-STRUCTURED-LOCATION;VALUE=URI;X-ADDRESS=Albert-Roßhaupter-Str. 8\,
  München\, Bayern\, Deutschland;X-APPLE-RADIUS=100;X-TITLE=MVHS Sendling:
 geo:48.117097,11.537813
END:VEVENT
BEGIN:VTIMEZONE
TZID:Europe/Berlin
X-LIC-LOCATION:Europe/Berlin
BEGIN:DAYLIGHT
DTSTART:20250330T030000
TZOFFSETFROM:+0100
TZOFFSETTO:+0200
TZNAME:CEST
END:DAYLIGHT
BEGIN:STANDARD
DTSTART:20251026T020000
TZOFFSETFROM:+0200
TZOFFSETTO:+0100
TZNAME:CET
END:STANDARD
END:VTIMEZONE
END:VCALENDAR