BEGIN:VCALENDAR
VERSION:2.0
PRODID:-//wp-events-plugin.com//7.2.3.1//EN
TZID:Europe/Berlin
X-WR-TIMEZONE:Europe/Berlin
BEGIN:VEVENT
UID:12016@literaturseiten-muenchen.de
DTSTART;TZID=Europe/Berlin:20251028T190000
DTEND;TZID=Europe/Berlin:20251028T200000
DTSTAMP:20251027T150028Z
URL:https://www.literaturseiten-muenchen.de/veranstaltungen/die-anatomie-d
 er-angst-eine-lesung-des-schreibsuendikat-e-v/
SUMMARY:Die Anatomie der Angst - eine Lesung des Schreibsündikat e.V.
DESCRIPTION:Wovor fürchten wir uns? In Die Anatomie der Angst gehen wir de
 n vielfältigen Ausprägungen des Schreckens auf den Grund.\n\nVon den Sch
 auern des Alltäglichen bis hin zu paranormalen Erscheinungen - in unserer
  diesjährigen Lesung im Lost Weekend ist für alle Begeisterte des Horror
 -Genres etwas dabei! 📚🎃🍂\n\nDas Schreibsündikat e.V. ist ein Aut
 orenverein\, der sich mit deutschsprachiger Literatur in allen Formen und 
 Farben beschäftigt.\n\nDer Eintritt ist frei.
CATEGORIES:Lesung
LOCATION:Lost Weekend\, Schellingstr. 3\, München\, 80799\, Deutschland
GEO:48.149128;11.579414
X-APPLE-STRUCTURED-LOCATION;VALUE=URI;X-ADDRESS=Schellingstr. 3\, München\
 , 80799\, Deutschland;X-APPLE-RADIUS=100;X-TITLE=Lost Weekend:geo:48.14912
 8,11.579414
END:VEVENT
BEGIN:VTIMEZONE
TZID:Europe/Berlin
X-LIC-LOCATION:Europe/Berlin
BEGIN:STANDARD
DTSTART:20251026T020000
TZOFFSETFROM:+0200
TZOFFSETTO:+0100
TZNAME:CET
END:STANDARD
END:VTIMEZONE
END:VCALENDAR