BEGIN:VCALENDAR
VERSION:2.0
PRODID:-//wp-events-plugin.com//7.2.3.1//EN
TZID:Europe/Berlin
X-WR-TIMEZONE:Europe/Berlin
BEGIN:VEVENT
UID:12154@literaturseiten-muenchen.de
DTSTART;TZID=Europe/Berlin:20251205T190000
DTEND;TZID=Europe/Berlin:20251205T210000
DTSTAMP:20251116T213830Z
URL:https://www.literaturseiten-muenchen.de/veranstaltungen/die-aufzeichnu
 ngen-des-malte-laurids-brigge/
SUMMARY:„Die Aufzeichnungen des Malte Laurids Brigge“
DESCRIPTION:Neue Ziegelei präsentiert @ Café GeQo\n\n„Die Aufzeichnunge
 n des Malte Laurids Brigge“\n\nEin literarisch-musikalischer Abend nach 
 Rainer Maria Rilke\n\nKeine durchgehende Handlung\, sondern ein poetisches
  Mosaik: Rilkes Tagebuchroman verdichtet Erfahrungen der Moderne zu Bilder
 n zwischen Innen- und Außenwelt\, Erinnerung und Gegenwart.\n\nMaltes Kin
 dheit\, sein Blick auf das Pariser Leben und die neu erzählte Geschichte 
 vom verlorenen Sohn verweben sich zu einem eindrucksvollen Spiegel seelisc
 her Zustände.\n\nDie besondere Textauswahl und musikalische Begleitung la
 ssen die Grenzen zwischen Wort und Klang\, Erleben und Erinnerung verschwi
 mmen.\n\nMit: Andy Lutter (Piano) &amp\; Vera Lippisch (Stimme)\n\nEinlass
 : 18:30 Uhr\n\nEintritt:\nFair-Preis-Ticket 10\,00 €\nMid-Preis-Ticket 5
 \,00 €\nSozial-Preis-Ticket 2\,00 €\nTickets unter: kultur-neueziegele
 i@brk-muenchen.de
CATEGORIES:Lesung,Literatur &amp; Musik
LOCATION:CAFÉ GEQO – QUARTIERSCAF\, Maria-Nindl-Platz 6\, München\, Deu
 tschland
GEO:48.163071;11.630326
X-APPLE-STRUCTURED-LOCATION;VALUE=URI;X-ADDRESS=Maria-Nindl-Platz 6\, Münc
 hen\, Deutschland;X-APPLE-RADIUS=100;X-TITLE=CAFÉ GEQO – QUARTIERSCAF:g
 eo:48.163071,11.630326
END:VEVENT
BEGIN:VTIMEZONE
TZID:Europe/Berlin
X-LIC-LOCATION:Europe/Berlin
BEGIN:STANDARD
DTSTART:20251026T020000
TZOFFSETFROM:+0200
TZOFFSETTO:+0100
TZNAME:CET
END:STANDARD
END:VTIMEZONE
END:VCALENDAR