BEGIN:VCALENDAR
VERSION:2.0
PRODID:-//wp-events-plugin.com//7.2.3.1//EN
TZID:Europe/Berlin
X-WR-TIMEZONE:Europe/Berlin
BEGIN:VEVENT
UID:11843@literaturseiten-muenchen.de
DTSTART;TZID=Europe/Berlin:20251119T180000
DTEND;TZID=Europe/Berlin:20251119T193000
DTSTAMP:20251001T123509Z
URL:https://www.literaturseiten-muenchen.de/veranstaltungen/die-grossen-de
 r-literatur-anna-seghers-ein-werkportraet-zum-125-geburtstag/
SUMMARY:Die Großen der Literatur: Anna Seghers - ein Werkporträt zum 125.
  Geburtstag
DESCRIPTION:Mit ihren Romanen "Das siebte Kreuz" und "Transit" hat sich Ann
 a Seghers in das literarische Gedächtnis tief eingeschrieben. Die zentral
 en Erfahrungen ihrer Zeit – antifaschistischer Widerstand und Exil tause
 nder Verfolgter – greift sie auf in ebenso faszinierenden wie analytisch
  klaren Szenarien\, die heute aktueller denn je erscheinen. Die Vortragsre
 ihe befasst sich sowohl mit dem bewegten Leben der ursprünglich aus dem M
 ainzer Bildungsbürgertum stammenden Sozialistin als auch mit ihren wichti
 gsten Werken.\n\n- Ein kämpferisches Leben: Zwischen Antifaschismus und S
 talinismus (19. November)\n- Das siebte Kreuz (26. November)\n- Transit (3
 . Dezember)\n- Der Ausflug der toten Mädchen (10. Dezember)\n\nKursnummer
 : V242150\n\nDozent: Stefan Winter\n\nGebühr: € 36\,- Einzeln buchbar (
 Einzelticket € 9\,-)\n\nWeitere Informationen erhalten Sie unter: https
 ://www.mvhs.de/kurse/kultur-kunst-kreativitaet/literatur/klassiker-der-wel
 tliteratur/die-grossen-der-literatur-anna-seghers-ein-werkportraet-zum-125
 -geburtstag-460-C-V242150\n\n&nbsp\;
CATEGORIES:Vortrag
LOCATION:Gasteig HP8\, Hans-Preißinger-Str. 8\, München\, Deutschland
GEO:48.110259;11.553309
X-APPLE-STRUCTURED-LOCATION;VALUE=URI;X-ADDRESS=Hans-Preißinger-Str. 8\, M
 ünchen\, Deutschland;X-APPLE-RADIUS=100;X-TITLE=Gasteig HP8:geo:48.110259
 ,11.553309
END:VEVENT
BEGIN:VTIMEZONE
TZID:Europe/Berlin
X-LIC-LOCATION:Europe/Berlin
BEGIN:STANDARD
DTSTART:20251026T020000
TZOFFSETFROM:+0200
TZOFFSETTO:+0100
TZNAME:CET
END:STANDARD
END:VTIMEZONE
END:VCALENDAR