BEGIN:VCALENDAR
VERSION:2.0
PRODID:-//wp-events-plugin.com//7.2.3.1//EN
TZID:Europe/Berlin
X-WR-TIMEZONE:Europe/Berlin
BEGIN:VEVENT
UID:12956@literaturseiten-muenchen.de
DTSTART;TZID=Europe/Berlin:20260520T190000
DTEND;TZID=Europe/Berlin:20260520T190000
DTSTAMP:20260415T162445Z
URL:https://www.literaturseiten-muenchen.de/veranstaltungen/die-kraft-der-
 sprache-5-abend-penelope/
SUMMARY:Die Kraft der Sprache – 5. Abend PENELOPE
DESCRIPTION:Einführung: Stefan Hunstein\n\nEs lesen und spielen Sibylle Ca
 nonica und Mark Polscher\, Sopransaxophon und Synthesizer\n\nNachdem die G
 riechen zehn Jahre vergeblich vor Troja lagerten und die Stadt nicht einne
 hmen konnten\, verhalf schließlich eine List des Odysseus durch ein Gastg
 eschenk\, das Trojanische Pferd\, die Stadt zu erobern.\nDoch warum dauert
 e es weitere zehn Jahre bis zu seiner Rückkehr an den Hof von Ithaka?\nDe
 r Thron verwaist\, das Land im Stillstand und die Fürsten des Landes buhl
 en um Penelopes Hand. Ihr Sohn Telemachos hatte vergeblich alle Meeresküs
 ten nach einem Lebenszeichen seines Vaters Odysseus abgesucht und war auch
  ohne Kunde von seinem Tod zurückgekehrt. Es war nun an der Zeit\, dass P
 enelope das Totentuch für ihren Gemahl zu Ende webt\, damit sie sich wied
 er vermählen und der Thron neu besetzt werden kann. So saß sie tagsüber
  am Webstuhl\, löste aber des Nachts den Faden wieder auf\, um Zeit zu ge
 winnen.\nNach 20 Jahren kehrte Odysseus als Bettler verkleidet – nur er
 kannt von seinem alten Hund – nach Ithaka zurück\, und tötete alle Fr
 eier. Die Prophezeiung hatte ihm vorausgesagt\, er werde durch die Hand se
 ines Sohnes sterben\, und so verwünschte er das Schicksal\, als ihn ein F
 remder tötete\, nicht ahnend\, dass auch dieser sein Sohn war. Penelope w
 ollte nach seinem Tod herausfinden\, was ihn so lange nicht heimkehren lie
 ß\; hier beginnt die Geschichte PENELOPE\, EINE ERFAHRUNG von Dagmar Nick
 .\n\nDer Eintritt zu der Veranstaltung ist frei\, eine Anmeldung nicht erf
 orderlich. Bitte haben Sie dafür Verständnis\, dass unser Platzangebot b
 egrenzt ist. Daher werden eine Stunde vor Beginn der Veranstaltung am Haup
 teingang der Residenz\, Max-Joseph-Platz 3\, Platzkarten vergeben.
CATEGORIES:Lesung,Literatur &amp; Musik
LOCATION:Bayerische Akademie der Schönen Künste\, Max-Joseph-Platz 3\, M
 ünchen\, Bayern\, 80539\, Oberbayern\, Deutschland
GEO:48.14044;11.577539999999999
X-APPLE-STRUCTURED-LOCATION;VALUE=URI;X-ADDRESS=Max-Joseph-Platz 3\, Münch
 en\, Bayern\, 80539\, Oberbayern\, Deutschland;X-APPLE-RADIUS=100;X-TITLE=
 Bayerische Akademie der Schönen Künste:geo:48.14044,11.577539999999999
END:VEVENT
BEGIN:VTIMEZONE
TZID:Europe/Berlin
X-LIC-LOCATION:Europe/Berlin
BEGIN:DAYLIGHT
DTSTART:20260329T030000
TZOFFSETFROM:+0100
TZOFFSETTO:+0200
TZNAME:CEST
END:DAYLIGHT
END:VTIMEZONE
END:VCALENDAR