BEGIN:VCALENDAR
VERSION:2.0
PRODID:-//wp-events-plugin.com//7.2.3.1//EN
TZID:Europe/Berlin
X-WR-TIMEZONE:Europe/Berlin
BEGIN:VEVENT
UID:12706@literaturseiten-muenchen.de
DTSTART;TZID=Europe/Berlin:20260402T200000
DTEND;TZID=Europe/Berlin:20260402T223000
DTSTAMP:20260309T183607Z
URL:https://www.literaturseiten-muenchen.de/veranstaltungen/die-letzten-na
 echte-der-boheme-6/
SUMMARY:Die letzten Nächte der Bohème
DESCRIPTION:Die legendäre Mixed Show von Frank Klötgen und Stefan Erz zur
 ück in Schwabing! Kleinkunst aus dem Umfeld Kabarett\, Poetry Slam und Li
 teratur sowie immer auch ein musikalischer Gast aus dem Genre Blues\, Coun
 try und Jazz.\n\nZu Gast:\n\n 	die ostfriesische Tempo-Slammerin ANNIKA BL
 ANKE\n 	der Ausnahmekeyboarder ROALD RASCHNER\n 	der kabarettistische Pupp
 enspieler und Wolpert-Herrchen JOE HEINRICH\n\nEintritt 18/15 EUR. Einlass
  19:30 Uhr.\n\nTickets hier!
CATEGORIES:Literatur &amp; Musik,PoetrySlam
LOCATION:Heppel &amp\; Ettlich\, Feilitzschstr. 12\, München\, Deutschland
GEO:48.161154;11.588873
X-APPLE-STRUCTURED-LOCATION;VALUE=URI;X-ADDRESS=Feilitzschstr. 12\, Münche
 n\, Deutschland;X-APPLE-RADIUS=100;X-TITLE=Heppel & Ettlich:geo:48.161154,
 11.588873
END:VEVENT
BEGIN:VTIMEZONE
TZID:Europe/Berlin
X-LIC-LOCATION:Europe/Berlin
BEGIN:DAYLIGHT
DTSTART:20260329T030000
TZOFFSETFROM:+0100
TZOFFSETTO:+0200
TZNAME:CEST
END:DAYLIGHT
END:VTIMEZONE
END:VCALENDAR