BEGIN:VCALENDAR
VERSION:2.0
PRODID:-//wp-events-plugin.com//7.2.3.1//EN
TZID:Europe/Berlin
X-WR-TIMEZONE:Europe/Berlin
BEGIN:VEVENT
UID:12409@literaturseiten-muenchen.de
DTSTART;TZID=Europe/Berlin:20260206T193000
DTEND;TZID=Europe/Berlin:20260206T210000
DTSTAMP:20260122T113823Z
URL:https://www.literaturseiten-muenchen.de/veranstaltungen/die-morgenland
 fahrt-hermann-hesses-geistige-botschaften/
SUMMARY:Die Morgenlandfahrt – Hermann Hesses Geistige Botschaften
DESCRIPTION:Vortrag mit musikalischer Begleitung. Referentin: Isabel Lehnen
 \, Gitarre und Erzähler: Peter Meier\nHermann Hesses zeitlose Erzählung 
 „Die Morgenlandfahrt“ ist weit mehr als ein poetisches Märchen oder e
 in fantasievolles Abenteuer. Sie lädt dazu ein\, sich mit den Herausforde
 rungen und Erkenntnissen eines spirituellen Weges auseinanderzusetzen – 
 wie sie auch in Hesses geheimnisvollem Bund der Morgenlandfahrer eindrucks
 voll dargestellt werden.\nDer Vortrag beleuchtet die symbolträchtigen Pro
 zesse einer spirituellen Gemeinschaft und spiegelt dabei die Suche des Ich
 -Erzählers nach seiner inneren Wahrheit und einer verborgenen Quelle der 
 Weisheit wider.\nDie Morgenlandfahrt offenbart in ihrer Tiefgründigkeit e
 rstaunliche Parallelen zu den\nHerausforderungen unserer heutigen Zeit: Kr
 isen\, Orientierungslosigkeit und die Sehnsucht nach Sinn. Die unterschied
 lichen Reisenden verkörpern individuelle Hoffnungen\, Zweifel und Perspek
 tiven\, die zu Konflikten\, Missverständnissen und schließlich zu tiefgr
 eifenden Enthüllungen führen.\nBegleiten Sie uns auf eine literarische R
 eise\, die berührt\, inspiriert und zugleich eine Schlüsselbotschaft fü
 r unsere moderne Welt bereithält.\nEin stimmungsvoller Abend mit Text\, R
 eflexion und Musik erwartet Sie.\n\nEintritt frei\, keine vorherige Anmeld
 ung erforderlich
CATEGORIES:Lesung,Literatur &amp; Musik
LOCATION:Seidlvilla\, Nikolaiplatz 1b\, München\, 80802\, Deutschland
GEO:48.15867;11.587729999999965
X-APPLE-STRUCTURED-LOCATION;VALUE=URI;X-ADDRESS=Nikolaiplatz 1b\, München\
 , 80802\, Deutschland;X-APPLE-RADIUS=100;X-TITLE=Seidlvilla:geo:48.15867,1
 1.587729999999965
END:VEVENT
BEGIN:VTIMEZONE
TZID:Europe/Berlin
X-LIC-LOCATION:Europe/Berlin
BEGIN:STANDARD
DTSTART:20251026T020000
TZOFFSETFROM:+0200
TZOFFSETTO:+0100
TZNAME:CET
END:STANDARD
END:VTIMEZONE
END:VCALENDAR