BEGIN:VCALENDAR
VERSION:2.0
PRODID:-//wp-events-plugin.com//7.2.3.1//EN
TZID:Europe/Berlin
X-WR-TIMEZONE:Europe/Berlin
BEGIN:VEVENT
UID:11973@literaturseiten-muenchen.de
DTSTART;TZID=Europe/Berlin:20251102T110000
DTEND;TZID=Europe/Berlin:20251102T110000
DTSTAMP:20251017T080808Z
URL:https://www.literaturseiten-muenchen.de/veranstaltungen/die-muenchner-
 turmschreiber-laden-zur-matinee/
SUMMARY:Die Münchner Turmschreiber laden zur Matinee
DESCRIPTION:Herbst-Matinee der Münchner Turmschreiber\n\nWenn der November
 blues auf winterliche Vorfreude trifft: Die Münchner Turmschreiber durchp
 flügen den Herbstnebel und servieren im Fraunhofer Wirtshaus eine ausgewo
 gene Mahlzeit aus unterhaltsamen und nachdenklichen Texten. Am 2. November
  sind u.a. mit dabei Norbert Göttler\, Anton G. Leitner\, Gabriele Trinck
 ler und Siegfried Völlger. Dazu stoßen Melanie Arzenheimer\, Georg „Gr
 ög“ Eggers und Wolfgang Oppler. Freuen Sie sich auf einen abwechslungsr
 eichen literarischen Mittagstisch!\n\nSelbstverfreilich bewahren die Turms
 chreiber sehr gerne die Tradition\, um 12 Uhr eine gepflegte Weißwurst-Pa
 use einzulegen.\n\nTickets zum Preis von 15 € (Freundeskreis: 12 €) ka
 nn man reservieren unter Tel.: 08421 / 90 92 599 oder per E-Mail an ticket
 s@turmschreiber.bayern\n\nKarten sind selbstverfreilich auch an der Abendk
 asse erhältlich\, die in diesem Fall eigentlich eine Vormittagskasse ist.
CATEGORIES:Lesung
LOCATION:Wirtshaus im Fraunhofer\, Fraunhoferstraße 9\, München\, Bayern\
 , 80469 \, Deutschland
GEO:48.130947;11.572852
X-APPLE-STRUCTURED-LOCATION;VALUE=URI;X-ADDRESS=Fraunhoferstraße 9\, Münc
 hen\, Bayern\, 80469 \, Deutschland;X-APPLE-RADIUS=100;X-TITLE=Wirtshaus i
 m Fraunhofer:geo:48.130947,11.572852
END:VEVENT
BEGIN:VTIMEZONE
TZID:Europe/Berlin
X-LIC-LOCATION:Europe/Berlin
BEGIN:STANDARD
DTSTART:20251026T020000
TZOFFSETFROM:+0200
TZOFFSETTO:+0100
TZNAME:CET
END:STANDARD
END:VTIMEZONE
END:VCALENDAR