BEGIN:VCALENDAR
VERSION:2.0
PRODID:-//wp-events-plugin.com//7.2.3.1//EN
TZID:Europe/Berlin
X-WR-TIMEZONE:Europe/Berlin
BEGIN:VEVENT
UID:11866@literaturseiten-muenchen.de
DTSTART;TZID=Europe/Berlin:20251127T200000
DTEND;TZID=Europe/Berlin:20251127T221500
DTSTAMP:20251009T142240Z
URL:https://www.literaturseiten-muenchen.de/veranstaltungen/die-stuetzen-d
 er-gesellschaft-lesebuehnen-zu-gast-in-schwabing/
SUMMARY:Die Stützen der Gesellschaft - Lesebühnen zu Gast in Schwabing
DESCRIPTION:Mit Fee Brembeck\, Frank Klötgen\, Sven Kemmler und Alex Burkh
 ard\n\nMit ihren gesellschaftssatirischen Texten und festem Autor*innensta
 m weisen die in Berlin entstandenen "Lesebühnen" viele Parallelen zu poli
 tischen Kabarettensembles á la Lach- &amp\; Schieß auf. Anlässlich des 
 30jährigen Jubiläums der Lesebühnenkultur startet in den Spielstätten 
 der Münchner Lach- &amp\; Schießgesellschaft eine bundesweit einzigartig
 e Reihe\, bei der sich legendäre Bühnen mit ihren besten Texten in Münc
 hen präsentieren.\n\nTeil Zwei unserer Reihe ist ein Revival der Münchne
 r Lesebühne "Die Stützen der Gesellschaft". Von 2014 bis 2020 zählte di
 e Show mit Fee Brembeck\, Frank Klötgen\, Sven Kemmler und Alex Burkhard 
 zu den festen Größen des Münchner Feierabends. Legendäre Nächte im Fr
 aunhofer Theater (später auch in der Lach- &amp\; Schieß) schufen kultna
 he Programmpunkte wie "Tee mit Fee"\, die "Gefühlte Übersetzung" oder di
 e "Ehemalige Stütze" - es gab schillernde Outfits\, einen Bühnenhund sow
 ie einen sprechenden Fuchs. Dann verstreuten sich die Stützen in sämtlic
 he Winkel der Republik und ins Exil der Solo-Karrieren. An diesem Abend ke
 hren die Vier in Original- und Originell-Besetzung zurück - natürlich in
  jener 20er-Jahre-Garderobe\, mit der sie damals die Räterepublik der Poe
 sie ausgerufen haben. Für alle\, die damals dabei waren. Und für alle\, 
 die nur davon gehört haben.
CATEGORIES:Literatur &amp; Musik,PoetrySlam
LOCATION:Kult56\, Ursulastr. 9\, München\, 80802\, Deutschland
GEO:48.16191;11.590799
X-APPLE-STRUCTURED-LOCATION;VALUE=URI;X-ADDRESS=Ursulastr. 9\, München\, 8
 0802\, Deutschland;X-APPLE-RADIUS=100;X-TITLE=Kult56:geo:48.16191,11.59079
 9
END:VEVENT
BEGIN:VTIMEZONE
TZID:Europe/Berlin
X-LIC-LOCATION:Europe/Berlin
BEGIN:STANDARD
DTSTART:20251026T020000
TZOFFSETFROM:+0200
TZOFFSETTO:+0100
TZNAME:CET
END:STANDARD
END:VTIMEZONE
END:VCALENDAR