BEGIN:VCALENDAR
VERSION:2.0
PRODID:-//wp-events-plugin.com//7.2.3.1//EN
TZID:Europe/Berlin
X-WR-TIMEZONE:Europe/Berlin
BEGIN:VEVENT
UID:12303@literaturseiten-muenchen.de
DTSTART;TZID=Europe/Berlin:20260226T190000
DTEND;TZID=Europe/Berlin:20260226T203000
DTSTAMP:20251219T170307Z
URL:https://www.literaturseiten-muenchen.de/veranstaltungen/die-suche-der-
 toechter-kronheims-zeiten-romanbiografie-einer-juedischen-familie/
SUMMARY:Die Suche der Töchter. Kronheims Zeiten. Romanbiografie einer jüd
 ischen Familie
DESCRIPTION:\n\nLesung des Autors Frank A. Stern und der Schauspielerin Tam
 ara Stern\n\n\n\n\n„Ich will kein Rest sein!“ Mit diesem Satz beginnt 
 eine jahrzehntelange Suche der Kleinen Kronheim.\nSie wurde vor 1945 als T
 ochter einer alteingesessenen deutsch-jüdischen Kaufmannsfamilie im Verbo
 rgenen geboren. Sie lernt\, in ihrer Kindheit in Berlin den Lebenden zuzuh
 ören\, in ihrer Jugend frühere Generationen zu erträumen\, das nie Gesa
 gte aufzuspüren und das Gefühlte zwischen den Worten zu verstehen. Durch
  sie werden vergangene und heutige deutsch-jüdische Traditionen und Eigen
 sinn lebendig – sei es in Ostpreußen\, Breslau\, Wien\, Berlin\, Haifa\
 , in den Kibbuzim und in New York.\nDoch ist das für eine nach 1945 in De
 utschland aufwachsende Jüdin selbstverständlich? Warum leben wir in dies
 em Land? fragt sie sich während ihrer Schulzeit. Und von ihren Angehörig
 en in Haifa und New York wird sie gefragt: Warum lebt ihr immer noch in je
 nem Land?\n\nDie Romanbiografie der Kleinen Kronheim und ihrer Familie zei
 gt\, dass die deutsch-jüdischen Erfahrungen nicht zu Ende sind\, seit Jah
 rzehnten auch das in Israel und Amerika Erlebte dazu gehört. Um Erinnerun
 gen und Gefühle geht es – also um die Frage nach jüdischem Leben heute
 .\n\nFrank A. Stern\, geb. 1944 bei Königsberg in eine alteingesessene j
 üdische Kaufmannsfamilie\, wuchs in Berlin auf\, arbeitete in einem israe
 lischen Kibbuz\, studierte in Jerusalem\, Tel Aviv und Berlin. Er lehrte K
 ultur-\, Film- und Jüdische Geschichte in Israel\, den USA\, Deutschland 
 und Österreich\, publizierte zu deutsch-jüdischer und israelischer Kultu
 r\, zuletzt zum Denker de deutsch-jüdischen Moderne Franz Rosenzeig und z
 u den Filmen von Hedy Lamarr. Heute lebt er zwischen Wien und Tel Aviv. Di
 e Suche der Töchter ist sein erster Roman.\n\nTamara Stern ist eine in Be
 rlin geborene und in Jerusalem aufgewachsene Schauspielerin. Heute steht s
 ie in Österreich\, Deutschland und Israel auf der Bühne. Gastspiele mit 
 dem österreichischen Aktionstheater Ensemble und ihre eigenen musikalisch
 en Solo-Shows führen sie von New York über London bis Tel Aviv.\n\nModer
 ation: Ulrike Heikaus\, Jüdisches Museum München\n\nEine Veranstaltung d
 es Jüdischen Museums München im Rahmen der Ausstellung „Die Dritte Gen
 eration“\n\nWeitere Informationen und Anmeldung \n\n
CATEGORIES:Buchpräsentation,Lesung
LOCATION:Jüdisches Museum München\, St.-Jakobs-Platz 16\, München\, Baye
 rn \, 80331\, Altstadt \, Deutschland
GEO:48.134347;11.572283
X-APPLE-STRUCTURED-LOCATION;VALUE=URI;X-ADDRESS=St.-Jakobs-Platz 16\, Münc
 hen\, Bayern \, 80331\, Altstadt \, Deutschland;X-APPLE-RADIUS=100;X-TITLE
 =Jüdisches Museum München:geo:48.134347,11.572283
END:VEVENT
BEGIN:VTIMEZONE
TZID:Europe/Berlin
X-LIC-LOCATION:Europe/Berlin
BEGIN:STANDARD
DTSTART:20251026T020000
TZOFFSETFROM:+0200
TZOFFSETTO:+0100
TZNAME:CET
END:STANDARD
END:VTIMEZONE
END:VCALENDAR