BEGIN:VCALENDAR
VERSION:2.0
PRODID:-//wp-events-plugin.com//7.2.3.1//EN
TZID:Europe/Berlin
X-WR-TIMEZONE:Europe/Berlin
BEGIN:VEVENT
UID:11845@literaturseiten-muenchen.de
DTSTART;TZID=Europe/Berlin:20251114T180000
DTEND;TZID=Europe/Berlin:20251114T193000
DTSTAMP:20251001T124129Z
URL:https://www.literaturseiten-muenchen.de/veranstaltungen/die-welt-des-l
 iterarischen-barock/
SUMMARY:Die Welt des literarischen Barock
DESCRIPTION:Das Barock-Zeitalter wird gerne\, nicht zuletzt wegen der Nachw
 irkungen des 30jährigen Krieges und zahlreicher Seuchen\, auf das Vanitas
 -Thema verkürzt\, dem das menschliche Dasein als nichtig und eitel gilt. 
 Aber diese Epoche (vom Ende des 16. bis über die Mitte des 18. Jahrhunder
 ts) war von einem erstaunlichen Erkenntnisoptimismus getragen. Aus dem Wis
 senfundus der Renaissance erbaute das Barock einen riesigen kulturellen Re
 ichtum in Literatur\, Wissenschaft und Kunst\, der leider in die hinteren 
 Regalreihen verschwand und wieder hervorgeholt werden sollte.\n\nKursnumme
 r: V244240\n\nTermine: 14.11.2025\, 21.11.2025\, 28.11.2025\n\nDozent: Ber
 nhard Horwatitsch\n\nGebühr: € 27\,- (Einzeln buchbar) Einzelkarte € 
 9\,-\n\nWeitere Informationen erhalten Sie unter: https://www.mvhs.de/kur
 se/kultur-kunst-kreativitaet/bachfest-2025/die-welt-des-literarischen-baro
 ck-460-C-V244240
CATEGORIES:Vortrag
LOCATION:MVHS im HP8\, Hans-Preißinger-Str. 8 \, München\, Deutschland\, 
 81379\, Sendling\, Deutschland
GEO:48.110833;11.553216
X-APPLE-STRUCTURED-LOCATION;VALUE=URI;X-ADDRESS=Hans-Preißinger-Str. 8 \, 
 München\, Deutschland\, 81379\, Sendling\, Deutschland;X-APPLE-RADIUS=100
 ;X-TITLE=MVHS im HP8:geo:48.110833,11.553216
END:VEVENT
BEGIN:VTIMEZONE
TZID:Europe/Berlin
X-LIC-LOCATION:Europe/Berlin
BEGIN:STANDARD
DTSTART:20251026T020000
TZOFFSETFROM:+0200
TZOFFSETTO:+0100
TZNAME:CET
END:STANDARD
END:VTIMEZONE
END:VCALENDAR