BEGIN:VCALENDAR
VERSION:2.0
PRODID:-//wp-events-plugin.com//7.2.3.1//EN
TZID:Europe/Berlin
X-WR-TIMEZONE:Europe/Berlin
BEGIN:VEVENT
UID:12949@literaturseiten-muenchen.de
DTSTART;TZID=Europe/Berlin:20260515T190000
DTEND;TZID=Europe/Berlin:20260515T190000
DTSTAMP:20260415T161000Z
URL:https://www.literaturseiten-muenchen.de/veranstaltungen/dok-fest-gluec
 k-gehabt-buchpremiere-mit-franz-xaver-gernstl/
SUMMARY:DOK.FEST: Glück gehabt! – Buchpremiere mit Franz Xaver Gernstl
DESCRIPTION:Moderation: Caro Matzko (ARD\, BR u.a.)\n\n»Gernstl unterwegs
 «: Zwischen Donau\, Sylt und Matterhorn\, in den USA\, in Holland und Ita
 lien reiste Franz Xaver Gernstl mehr als vier Jahrzehnte für seine »Kult
 sendung« (SZ) im Bayerischen Rundfunk umher\, suchte das Abenteuer und vo
 r allem: die Menschen. Wovon träumen sie\, welche Wege gehen sie? Seine F
 ilme erzählen von diesen Begegnungen\, von Aussteigerinnen und Alteingese
 ssenen\, von Träumern und Eigenbrötlern\, von Überfliegerinnen und Bode
 nständigen und von der Neugier auf das Leben anderer.\n\nIn »Glück geha
 bt! Über das Unterwegssein\, das Filmemachen und das Leben an sich« (Kö
 sel Verlag) blickt Gernstl auf diese Jahre on the road zurück. Zur Premie
 re liest er Auszüge aus seinem Buch\, zeigt Filmausschnitte und spricht 
 über das Erzählen wahrer Geschichten.\n\nEINTRITT: EURO 12.- / 10.-\, re
 servix.de\n\nVeranstalter: Stiftung Literaturhaus / DOK.fest München
CATEGORIES:Gespräch / Diskussion,Lesung
LOCATION:Literaturhaus\, Salvatorplatz 1\, München\, Bayern\, Deutschland
GEO:48.142051;11.574991
X-APPLE-STRUCTURED-LOCATION;VALUE=URI;X-ADDRESS=Salvatorplatz 1\, München\
 , Bayern\, Deutschland;X-APPLE-RADIUS=100;X-TITLE=Literaturhaus:geo:48.142
 051,11.574991
END:VEVENT
BEGIN:VTIMEZONE
TZID:Europe/Berlin
X-LIC-LOCATION:Europe/Berlin
BEGIN:DAYLIGHT
DTSTART:20260329T030000
TZOFFSETFROM:+0100
TZOFFSETTO:+0200
TZNAME:CEST
END:DAYLIGHT
END:VTIMEZONE
END:VCALENDAR