BEGIN:VCALENDAR
VERSION:2.0
PRODID:-//wp-events-plugin.com//7.2.3.1//EN
TZID:Europe/Berlin
X-WR-TIMEZONE:Europe/Berlin
BEGIN:VEVENT
UID:11576@literaturseiten-muenchen.de
DTSTART;TZID=Europe/Berlin:20250910T190000
DTEND;TZID=Europe/Berlin:20250910T203000
DTSTAMP:20250812T135204Z
URL:https://www.literaturseiten-muenchen.de/veranstaltungen/dokumentarfilm
 -freud-der-aussenseiter/
SUMMARY:Dokumentarfilm „Freud\, der Außenseiter“
DESCRIPTION:Dokumentarfilm (IL/ Österreich/ Deutschland 2025)\, dt. F.\, 5
 2 Min.\nDrehbuch\, Regie und Produktion: Yair Qedar\nErzählstimme: Karl M
 arkovics\n\nWer war Sigmund Freud? Yair Qedar unternimmt in »Freud\, der 
 Außenseiter« eine filmische Reise in das Leben und Werk des Begründers 
 der Psychoanalyse. Im Mittelpunkt stehen Freuds Erfahrungen der Ausgrenzun
 g als Jude in Wien und wie diese seine Arbeit\, seine Theorien und sein pe
 rsönliches Leben beeinflussten. Poetisch und anregend zeigt der Film\, da
 ss Freuds revolutionär neue Sicht auf die menschliche Seele vor allem ein
 es ist: der geschärfte Blick eines Außenseiters.\n\nYair Qedar ist Dokum
 entarfilmer und Journalist. Er studierte in Tel Aviv hebräische Literatur
  und schrieb für verschiedene israelische Tageszeitungen.\nDas Gespräch 
 mit Yair Qedar in Englisch führt Dr. Corinna Wernz\, Fachärztin für Psy
 chosomatische Medizin und Psychotherapie.\n\nEintritt: 10\,- Euro.\nAnmeld
 ung erforderlich unter: (089) 202 400 491 oder karten@ikg-m.de\nVeranstalt
 er: Akademie für Psychoanalyse &amp\; Psychotherapie München e.V.\, DPG
   AG München\, Kulturzentrum der Israelit. Kultusgemeinde München &amp\
 ; Obb.\n\n 
CATEGORIES:Gespräch / Diskussion,Weitere Veranstaltungen
LOCATION:Jüdisches Gemeindezentrum\, St.-Jakobs-Platz 18\, München\, Baye
 rn\, 80331 \, Deutschland
GEO:48.13468;11.57159999999999
X-APPLE-STRUCTURED-LOCATION;VALUE=URI;X-ADDRESS=St.-Jakobs-Platz 18\, Münc
 hen\, Bayern\, 80331 \, Deutschland;X-APPLE-RADIUS=100;X-TITLE=Jüdisches 
 Gemeindezentrum:geo:48.13468,11.57159999999999
END:VEVENT
BEGIN:VTIMEZONE
TZID:Europe/Berlin
X-LIC-LOCATION:Europe/Berlin
BEGIN:DAYLIGHT
DTSTART:20250330T030000
TZOFFSETFROM:+0100
TZOFFSETTO:+0200
TZNAME:CEST
END:DAYLIGHT
END:VTIMEZONE
END:VCALENDAR