BEGIN:VCALENDAR
VERSION:2.0
PRODID:-//wp-events-plugin.com//7.2.3.1//EN
TZID:Europe/Berlin
X-WR-TIMEZONE:Europe/Berlin
BEGIN:VEVENT
UID:12683@literaturseiten-muenchen.de
DTSTART;TZID=Europe/Berlin:20260424T100000
DTEND;TZID=Europe/Berlin:20260424T113000
DTSTAMP:20260304T131747Z
URL:https://www.literaturseiten-muenchen.de/veranstaltungen/durchatmen-sch
 reiben-abschalten/
SUMMARY:Durchatmen\, schreiben\, abschalten
DESCRIPTION:In dieser Schreibwerkstatt erfahren Sie\, wie Sie Schreiben zur
  Selbstfürsorge nutzen können und mit Stift und Papier innere Ruhe und E
 ntspannung finden. Dafür lernen Sie Schreibtechniken und Übungen kennen\
 , die Ihre Achtsamkeit und Resilienz stärken. Diese probieren Sie auch gl
 eich gemeinsam aus – so werden die Vormittage zu einer Kreativpause mit 
 viel Raum für Ihre Gefühle und Gedanken.\n\nKursnummer: W247100\n\nDozen
 tin: Daniela Esch\n\nGebühr: € 37\,-\n\nTermine: 24.04.2026\, 08.05.202
 6\, 22.05.2026\n\nWeitere Informationen finden Sie unter: https://www.mvh
 s.de/kurse/kultur-kunst-kreativitaet/kreatives-schreiben/schreiben-mehr/du
 rchatmen-schreiben-abschalten-460-C-W247100
CATEGORIES:Schreibwerkstatt
LOCATION:MVHS im HP8\, Hans-Preißinger-Str. 8 \, München\, Deutschland\, 
 81379\, Sendling\, Deutschland
GEO:48.110833;11.553216
X-APPLE-STRUCTURED-LOCATION;VALUE=URI;X-ADDRESS=Hans-Preißinger-Str. 8 \, 
 München\, Deutschland\, 81379\, Sendling\, Deutschland;X-APPLE-RADIUS=100
 ;X-TITLE=MVHS im HP8:geo:48.110833,11.553216
END:VEVENT
BEGIN:VTIMEZONE
TZID:Europe/Berlin
X-LIC-LOCATION:Europe/Berlin
BEGIN:DAYLIGHT
DTSTART:20260329T030000
TZOFFSETFROM:+0100
TZOFFSETTO:+0200
TZNAME:CEST
END:DAYLIGHT
END:VTIMEZONE
END:VCALENDAR