BEGIN:VCALENDAR
VERSION:2.0
PRODID:-//wp-events-plugin.com//7.2.3.1//EN
TZID:Europe/Berlin
X-WR-TIMEZONE:Europe/Berlin
BEGIN:VEVENT
UID:12230@literaturseiten-muenchen.de
DTSTART;TZID=Europe/Berlin:20260115T190000
DTEND;TZID=Europe/Berlin:20260115T190000
DTSTAMP:20251211T145718Z
URL:https://www.literaturseiten-muenchen.de/veranstaltungen/eine-frage-der
 -weltordnung/
SUMMARY:Eine Frage der Weltordnung
DESCRIPTION:Flucht und humanitärer Interventionismus im Mittleren Osten\, 
 1979-1991 \n\nFlucht entwickelte sich seit den späten 1970er Jahren zu ei
 nem globalen Politikfeld. Mit dem Afghanistan-Krieg\, dem Iran-Irak-Krieg 
 und dem zweiten Golfkrieg geriet der Mittlere Osten ins Zentrum politische
 r Debatten\, humanitärer Hilfe und menschenrechtspolitischen Engagements.
  Diskutiert wurden die Idee einer präventiven Bekämpfung von Fluchtursac
 hen\, eines Rechts auf humanitäre Hilfe und einer Pflicht zur Interventio
 n. Die Studie von Agnes Bresselau von Bressensdorf gibt Einblick in die t
 ägliche Arbeit der Hilfsorganisationen in den Flüchtlingslagern der Regi
 on\, ihre Vernetzung mit der afghanischen und kurdischen Diaspora in Deuts
 chland und Westeuropa sowie ihre Bedeutung für die internationale Politik
 . Auf diese Weise entsteht ein Gesamtpanorama von Flucht und humanitärer 
 Hilfe in dieser Region\, die bis heute die europäische und globale Flucht
 politik maßgeblich prägt.\n\nBuchvorstellung: Agnes Bresselau von Bresse
 nsdorf (Institut für Zeitgeschichte München-Berlin).\nModeration: Stefan
 ie Hajak \n\nDie Veranstaltung findet in Kooperation mit dem Institut für
  Zeitgeschichte München-Berlin statt.
CATEGORIES:Buchpräsentation,Lesung
LOCATION:Bellevue di Monaco\, Müllerstraße 2-6\, München\, 80469 \, Deut
 schland
GEO:48.13329;11.574735
X-APPLE-STRUCTURED-LOCATION;VALUE=URI;X-ADDRESS=Müllerstraße 2-6\, Münch
 en\, 80469 \, Deutschland;X-APPLE-RADIUS=100;X-TITLE=Bellevue di Monaco:ge
 o:48.13329,11.574735
END:VEVENT
BEGIN:VTIMEZONE
TZID:Europe/Berlin
X-LIC-LOCATION:Europe/Berlin
BEGIN:STANDARD
DTSTART:20251026T020000
TZOFFSETFROM:+0200
TZOFFSETTO:+0100
TZNAME:CET
END:STANDARD
END:VTIMEZONE
END:VCALENDAR