BEGIN:VCALENDAR
VERSION:2.0
PRODID:-//wp-events-plugin.com//7.2.3.1//EN
TZID:Europe/Berlin
X-WR-TIMEZONE:Europe/Berlin
BEGIN:VEVENT
UID:12393@literaturseiten-muenchen.de
DTSTART;TZID=Europe/Berlin:20260225T193000
DTEND;TZID=Europe/Berlin:20260225T193000
DTSTAMP:20260117T201505Z
URL:https://www.literaturseiten-muenchen.de/veranstaltungen/elias-hirschl-
 schleifen/
SUMMARY:Elias Hirschl: Schleifen
DESCRIPTION:Franziska Denk wächst im Umfeld des Wiener Kreises auf und lei
 det als Kind an einer seltsamen Krankheit: Jedes Symptom\, von dem sie hö
 rt oder liest\, bekommt sie sofort. In Otto Mandl\, einem genialen Mathema
 tiker\, findet die junge Franziska ihren Seelenverwandten. Sie lernt\, sic
 h mit Wörtern aus toten Sprachen gegen ihr Leiden zu immunisieren. Die be
 iden entwickeln eine absolute Sprachbesessenheit und forschen fortan und b
 is an alle denkbaren Grenzen gemeinsam nach der perfekten Sprache.\n»Schl
 eifen« ist ein großer\, ein kluger Roman über die Macht und den Einflus
 s von Sprache auf unser Leben\, der richtig Spaß macht beim Lesen. Immer 
 wieder stellt sich bei Elias Hirschl das schier Unglaubliche als wahr hera
 us\, und der Rest ist extrem gut erfunden.\nModeration: Jakob Rauch\nEintr
 itt: 15 Euro
CATEGORIES:Lesung
LOCATION:Rauch &amp\; König Buchladen\, Herzogstraße 84\, München\, 8079
 6\, Deutschland
GEO:48.162977;11.572231
X-APPLE-STRUCTURED-LOCATION;VALUE=URI;X-ADDRESS=Herzogstraße 84\, München
 \, 80796\, Deutschland;X-APPLE-RADIUS=100;X-TITLE=Rauch & König Buchladen
 :geo:48.162977,11.572231
END:VEVENT
BEGIN:VTIMEZONE
TZID:Europe/Berlin
X-LIC-LOCATION:Europe/Berlin
BEGIN:STANDARD
DTSTART:20251026T020000
TZOFFSETFROM:+0200
TZOFFSETTO:+0100
TZNAME:CET
END:STANDARD
END:VTIMEZONE
END:VCALENDAR