BEGIN:VCALENDAR
VERSION:2.0
PRODID:-//wp-events-plugin.com//7.2.3.1//EN
TZID:Europe/Berlin
X-WR-TIMEZONE:Europe/Berlin
BEGIN:VEVENT
UID:12155@literaturseiten-muenchen.de
DTSTART;TZID=Europe/Berlin:20251205T200000
DTEND;TZID=Europe/Berlin:20251205T200000
DTSTAMP:20251117T074721Z
URL:https://www.literaturseiten-muenchen.de/veranstaltungen/elke-heidenrei
 ch-neulich-im-himmel/
SUMMARY:Elke Heidenreich „Neulich im Himmel“
DESCRIPTION:„Die schönsten Geschichten“ – Ein Leseabend voller Gesch
 ichten und Musik\n\nOb in einem Brief an ihr sechzehnjähriges Ich\, in ei
 ner Erinnerung an einen Abend in Wien\, an dem sie alles unternahm\, um Ru
 dolf Nurejew tanzen sehen zu können\, oder in der Beschreibung eines übe
 rraschenden Wiedersehens mit einem alten Freund an einem Bahnhofsgleis mit
 ten in der Nacht: Elke Heidenreichs Texte sind meisterhafte Moment-aufnahm
 en des Lebens in all seinen Facetten. Weit über 100 Geschichten veröffen
 tlichte sie über die Jahre in mehr als fünfzehn Büchern\, nun hat sie i
 n einem Band die schönsten Geschichten zusammengestellt.\n\n»Neulich im 
 Himmel« ist eine Einladung an uns alle\, einzutauchen in das Werk einer a
 ußergewöhnlichen Schriftstellerin\, die seit Jahren mit pointierten und 
 lebensklugen Texten zu begeistern weiß.\n\nElke Heidenreich läft zu eine
 m unterhaltsamen Leseabend voller eigener Geschichten – wie immer virtuo
 s begleitet von Marc-Aurel Floros mit Musik von Richard Wagner\, W.A. Moza
 rt\, Robert Schumann\, Franz Schubert\, Gioachino Rossini und Giacomo Pucc
 ini.\n\nÜber die Autorin\n\nVielfach ausgezeichnete Schriftstellerin\, Ka
 barettistin\, Kritikerin\, Moderatorin und Journalistin – in der Welt de
 r Literatur gibt es kaum etwas\, das Elke Heidenreich nicht ist. Sie schri
 eb unzählige Kolumnen und Bücher\, rezensierte noch viele mehr im Fernse
 hen und großen Zeitungen. Mit ihrem sehr persönlichen Buch »Altern« ha
 t sie einen Nerv der Zeit getroffen und viele Menschen erreicht. Es ist da
 s bislang meistverkaufte Buch des Jahres 2024.\n\nTickets: MünchenTicket\
 , 39\,90-66\,30€
CATEGORIES:Lesung,Literatur &amp; Musik
LOCATION:Prinzregententheater\, Prinzregentenplatz 12\, München\, Deutschl
 and
GEO:48.139013;11.605577
X-APPLE-STRUCTURED-LOCATION;VALUE=URI;X-ADDRESS=Prinzregentenplatz 12\, Mü
 nchen\, Deutschland;X-APPLE-RADIUS=100;X-TITLE=Prinzregententheater:geo:48
 .139013,11.605577
END:VEVENT
BEGIN:VTIMEZONE
TZID:Europe/Berlin
X-LIC-LOCATION:Europe/Berlin
BEGIN:STANDARD
DTSTART:20251026T020000
TZOFFSETFROM:+0200
TZOFFSETTO:+0100
TZNAME:CET
END:STANDARD
END:VTIMEZONE
END:VCALENDAR