BEGIN:VCALENDAR
VERSION:2.0
PRODID:-//wp-events-plugin.com//7.2.3.1//EN
TZID:Europe/Berlin
X-WR-TIMEZONE:Europe/Berlin
BEGIN:VEVENT
UID:12153@literaturseiten-muenchen.de
DTSTART;TZID=Europe/Berlin:20251205T190000
DTEND;TZID=Europe/Berlin:20251205T190000
DTSTAMP:20251116T213600Z
URL:https://www.literaturseiten-muenchen.de/veranstaltungen/elnara-nuriiev
 a-letova-die-krimtataren/
SUMMARY:Elnara Nuriieva-Letova „Die Krimtataren“
DESCRIPTION:Buch. Film. Gespräch\n\nIm Rahmen der Veranstaltung wird das B
 uch „Die Krimtataren\, Geschichte\, Kultur\, Politik“ vorgestellt und 
 Ausschnitte einer Dokumentarfilm-Serie über krimtatarische Spuren in Deut
 schland gezeigt.\n\nDie Krimtatarin\, Autorin und Aktvistin Elnara Nuriiev
 a-Letova wird aus ihren Prosatexten lesen. Gespräch mit Sarah Reinke\, Le
 iterin der Menschenrechtsarbeit der GfbV und Osteuropa-Expertin\, und Dr. 
 Mieste Hotopp-Riecke\, Leiter des ICATA.\n\n&nbsp\;
CATEGORIES:Gespräch / Diskussion,Lesung
LOCATION:EineWeltHaus\, Schwanthalerstr. 80\, München\, 80336\, Deutschlan
 d
GEO:48.13769;11.55287
X-APPLE-STRUCTURED-LOCATION;VALUE=URI;X-ADDRESS=Schwanthalerstr. 80\, Münc
 hen\, 80336\, Deutschland;X-APPLE-RADIUS=100;X-TITLE=EineWeltHaus:geo:48.1
 3769,11.55287
END:VEVENT
BEGIN:VTIMEZONE
TZID:Europe/Berlin
X-LIC-LOCATION:Europe/Berlin
BEGIN:STANDARD
DTSTART:20251026T020000
TZOFFSETFROM:+0200
TZOFFSETTO:+0100
TZNAME:CET
END:STANDARD
END:VTIMEZONE
END:VCALENDAR