BEGIN:VCALENDAR
VERSION:2.0
PRODID:-//wp-events-plugin.com//7.2.3.1//EN
TZID:Europe/Berlin
X-WR-TIMEZONE:Europe/Berlin
BEGIN:VEVENT
UID:12611@literaturseiten-muenchen.de
DTSTART;TZID=Europe/Berlin:20260414T190000
DTEND;TZID=Europe/Berlin:20260414T203000
DTSTAMP:20260302T132611Z
URL:https://www.literaturseiten-muenchen.de/veranstaltungen/entzug-lesung-
 mit-christoph-peters/
SUMMARY:»Entzug« Lesung mit Christoph Peters
DESCRIPTION:Moderation: Knut Cordsen\n\nEine Wodkaflasche auf dem Küchenti
 sch. Eine Familie\, die zerbricht. So beginnt der Roman des vielfach ausge
 zeichneten Autors Christoph Peters (»Innerstädtischer Tod«\, »Dorfroma
 n« u.a.). In »Entzug« (Luchterhand) schreibt er schonungslos ehrlich ü
 ber einen Autor\, der trinkt\, um schreiben\, denken\, fühlen zu können.
  Bis er irgendwann nur noch trinkt\, um zu trinken. Es ist eine Entscheidu
 ng zwischen Leben und Tod\, als er sich schließlich in eine Klinik einwei
 sen lässt. Christoph Peters erzählt von der komplizierten Logistik der A
 bhängigkeit\, vom Betrug an den Menschen\, die einem am wichtigsten sind\
 , vom Betrug an sich selbst. Und vom langen Weg zurück in ein Leben\, das
  auch nüchtern wert ist\, gelebt zu werden.\n\nTickets erhältlich unter 
 ReserviX.\nEINTRITT: EURO 16.- / 10.-\nVeranstalter: Stiftung Literaturhau
 s
CATEGORIES:Gespräch / Diskussion,Lesung
LOCATION:Literaturhaus\, Salvatorplatz 1\, München\, Bayern\, Deutschland
GEO:48.142051;11.574991
X-APPLE-STRUCTURED-LOCATION;VALUE=URI;X-ADDRESS=Salvatorplatz 1\, München\
 , Bayern\, Deutschland;X-APPLE-RADIUS=100;X-TITLE=Literaturhaus:geo:48.142
 051,11.574991
END:VEVENT
BEGIN:VTIMEZONE
TZID:Europe/Berlin
X-LIC-LOCATION:Europe/Berlin
BEGIN:DAYLIGHT
DTSTART:20260329T030000
TZOFFSETFROM:+0100
TZOFFSETTO:+0200
TZNAME:CEST
END:DAYLIGHT
END:VTIMEZONE
END:VCALENDAR