BEGIN:VCALENDAR
VERSION:2.0
PRODID:-//wp-events-plugin.com//7.2.3.1//EN
TZID:Europe/Berlin
X-WR-TIMEZONE:Europe/Berlin
BEGIN:VEVENT
UID:11587@literaturseiten-muenchen.de
DTSTART;TZID=Europe/Berlin:20250914T120000
DTEND;TZID=Europe/Berlin:20250914T200000
DTSTAMP:20250814T080713Z
URL:https://www.literaturseiten-muenchen.de/veranstaltungen/europaeischer-
 tag-der-juedischen-kultur-unter-dem-motto-volk-des-buches/
SUMMARY:Europäischer Tag der jüdischen Kultur unter dem Motto „Volk des
  Buches“
DESCRIPTION:Sonntag\, 14. September 2025\n\n12:00 Uhr\n\nEuropäischer Tag 
 der jüdischen Kultur unter dem Motto „Volk des Buches“\n\n13:00 Uhr 
 „Ask the Rabbi: Fragen an Rabbiner Shmuel A. Brodman\n\n14:00 Uhr Stadtf
 ührung Auf jüd. Spuren“. 10€. Begrenzte TN-Zahl\, Anmeld. bis 10.09.
  unter karten@ikg-m.de\n\n15:00 Uhr Synagogenführung mit Dinah Zenker\n\n
 17:00 Uhr Dokumentarfilm über Leben &amp\; Werk des Schriftstellers Ephra
 im Kishon (OF. Hebr. mit engl. UT). Einführung: Ellen Presser. Anmeld.: k
 arten@ikg-m.de\n\n12:00 – 17:00 Bücher- und CD-Flohmarkt\n\n12:00 – 2
 0:00 Uhr geöffnet im koscheren Restaurant Einstein\n\nWeitere Information
 en unter www.ikg-m.de\n\n&nbsp\;\n
CATEGORIES:Buchpräsentation,Gespräch / Diskussion,Literarischer
 Spaziergang,Vortrag,Weitere Veranstaltungen
LOCATION:Jüdisches Gemeindezentrum\, St.-Jakobs-Platz 18\, München\, Deut
 schland
GEO:48.134522;11.572685
X-APPLE-STRUCTURED-LOCATION;VALUE=URI;X-ADDRESS=St.-Jakobs-Platz 18\, Münc
 hen\, Deutschland;X-APPLE-RADIUS=100;X-TITLE=Jüdisches Gemeindezentrum:ge
 o:48.134522,11.572685
END:VEVENT
BEGIN:VTIMEZONE
TZID:Europe/Berlin
X-LIC-LOCATION:Europe/Berlin
BEGIN:DAYLIGHT
DTSTART:20250330T030000
TZOFFSETFROM:+0100
TZOFFSETTO:+0200
TZNAME:CEST
END:DAYLIGHT
END:VTIMEZONE
END:VCALENDAR