BEGIN:VCALENDAR
VERSION:2.0
PRODID:-//wp-events-plugin.com//7.2.3.1//EN
TZID:Europe/Berlin
X-WR-TIMEZONE:Europe/Berlin
BEGIN:VEVENT
UID:12702@literaturseiten-muenchen.de
DTSTART;TZID=Europe/Berlin:20260421T190000
DTEND;TZID=Europe/Berlin:20260421T203000
DTSTAMP:20260309T150309Z
URL:https://www.literaturseiten-muenchen.de/veranstaltungen/evan-osnos-yac
 ht-oder-nicht-yacht-nachrichten-aus-der-welt-der-ultrareichen/
SUMMARY:Evan Osnos: "Yacht oder Nicht Yacht – Nachrichten aus der Welt de
 r Ultrareichen"
DESCRIPTION:In Yacht oder Nicht Yacht tauchen wir tief ein in die Welt de
 r Superreichen\, Amerikas Tech-Milliardäre und Oligarchen. Es geht nicht 
 nur um deren Lebensstil – von den Yachten im ersten Kapitel bis zu einer
  Selbsthilfegruppe verurteilter Wirtschaftskrimineller im letzten –\, so
 ndern auch um die immense Einflussnahme einer Handvoll von Ultrareichen au
 f die amerikanische Politik.\n\nEvan Osnos schreibt enorm unterhaltsam un
 d mit viel Liebe zum Detail von den sehr langen Yachten und extravaganten 
 Partys\, den Luxusbunkern und apokalypsesicheren Rückzugsorten\, den Steu
 ervermeidungstricks\, dem Einfluss auf Kunst und Kultur\, den Schneeballsy
 stemen und anderen white collar crimes einer privilegierten Schicht von 
 Menschen\, die nicht nur ihre Bodenhaftung\, sondern auch jegliches Wertes
 ystem verloren haben. Noch nie zuvor hatten die Wall Street und das Silico
 n Valley so viel Einfluss auf die amerikanische Politik wie jetzt während
  Trumps zweiter Präsidentschaft. Das Resultat sind politische Entscheidun
 gen\, die sich auf unser aller Leben auswirken.\n\nHaben Sie Interesse an 
 einer lebhaften persönlichen Diskussion auf Englisch über Evan Osnos' Bu
 ch Yacht oder nicht Yacht im Vorfeld dieses Vortrags? Dann kommen Sie am
  Donnerstag\, 16. April 2026\, um 19 Uhr zum Democracy Book Group Treffen
  ins Amerikahaus!\n\nDiese Veranstaltung ist Teil der Amerikahaus Book Ta
 lks Reihe.\n\nBitte beachten Sie\, dass diese Veranstaltung auf Englisch 
 stattfinden wird.\n\nAnmeldung:\nDer Eintritt ist frei. Bitte melden Sie s
 ich über den folgenden Link an: https://eveeno.com/241374761.\nBitte bea
 chten Sie\, dass für den Livestream der Veranstaltung keine Anmeldung erf
 orderlich ist.\n\nVeranstalter: A part of the Munich Dialogues on Democra
 cy Speakers Series\, a cooperation between The Yale Club of Germany e.V.
  (Munich Chapter) and the Amerikahaus - Bavarian Center for Transatlanti
 c Relations\n\nPartner: C.H.Beck Verlag\, Bard College Berlin\, Heinrich
  Böll Stiftung\n\n\n\n\n
CATEGORIES:Buchpräsentation,Lesung
LOCATION:Amerikahaus München\, Karolinenplatz 3\, München\, Bayern\, 8033
 3\, Deutschland
GEO:48.144319;11.567752
X-APPLE-STRUCTURED-LOCATION;VALUE=URI;X-ADDRESS=Karolinenplatz 3\, München
 \, Bayern\, 80333\, Deutschland;X-APPLE-RADIUS=100;X-TITLE=Amerikahaus Mü
 nchen:geo:48.144319,11.567752
END:VEVENT
BEGIN:VTIMEZONE
TZID:Europe/Berlin
X-LIC-LOCATION:Europe/Berlin
BEGIN:DAYLIGHT
DTSTART:20260329T030000
TZOFFSETFROM:+0100
TZOFFSETTO:+0200
TZNAME:CEST
END:DAYLIGHT
END:VTIMEZONE
END:VCALENDAR