BEGIN:VCALENDAR
VERSION:2.0
PRODID:-//wp-events-plugin.com//7.2.3.1//EN
TZID:Europe/Berlin
X-WR-TIMEZONE:Europe/Berlin
BEGIN:VEVENT
UID:12681@literaturseiten-muenchen.de
DTSTART;TZID=Europe/Berlin:20260425T100000
DTEND;TZID=Europe/Berlin:20260426T170000
DTSTAMP:20260304T131100Z
URL:https://www.literaturseiten-muenchen.de/veranstaltungen/familien-bande
 -schreiben-ueber-verbundenheit-und-praegung/
SUMMARY:Familien.Bande – Schreiben über Verbundenheit und Prägung
DESCRIPTION:Familie bedeutet mehr als Blutsverwandtschaft: Sie prägt uns t
 ief und schafft Verbindungen\, die unser Leben formen – ob als Familie\,
  Freundschaft oder Wahlverwandtschaft. In diesem Wochenendseminar schreibe
 n wir über diese vielfältigen Bande\, erforschen familiäre Dynamiken un
 d lassen persönliche wie literarische Geschichten lebendig werden. Durch 
 kreative Übungen zu Figuren\, Dialogen und inneren Monologen schärfen Si
 e Ihre Erzählkunst und finden Ihre eigene Stimme.\n\nKursnummer: W247025\
 n\nDozentin: Stefanie Evita Ibrahim\n\nGebühr: € 99\,-\n\nWeitere Infor
 mationen finden Sie unter: https://www.mvhs.de/kurse/kultur-kunst-kreativ
 itaet/kreatives-schreiben/texte-aller-art/familien-bande-schreiben-ueber-v
 erbundenheit-und-praegung-460-C-W247025
CATEGORIES:Schreibwerkstatt
LOCATION:MVHS im HP8\, Hans-Preißinger-Str. 8 \, München\, Deutschland\, 
 81379\, Sendling\, Deutschland
GEO:48.110833;11.553216
X-APPLE-STRUCTURED-LOCATION;VALUE=URI;X-ADDRESS=Hans-Preißinger-Str. 8 \, 
 München\, Deutschland\, 81379\, Sendling\, Deutschland;X-APPLE-RADIUS=100
 ;X-TITLE=MVHS im HP8:geo:48.110833,11.553216
END:VEVENT
BEGIN:VTIMEZONE
TZID:Europe/Berlin
X-LIC-LOCATION:Europe/Berlin
BEGIN:DAYLIGHT
DTSTART:20260329T030000
TZOFFSETFROM:+0100
TZOFFSETTO:+0200
TZNAME:CEST
END:DAYLIGHT
END:VTIMEZONE
END:VCALENDAR