BEGIN:VCALENDAR
VERSION:2.0
PRODID:-//wp-events-plugin.com//7.2.3.1//EN
TZID:Europe/Berlin
X-WR-TIMEZONE:Europe/Berlin
BEGIN:VEVENT
UID:12113@literaturseiten-muenchen.de
DTSTART;TZID=Europe/Berlin:20251214T170000
DTEND;TZID=Europe/Berlin:20251214T183000
DTSTAMP:20251116T094349Z
URL:https://www.literaturseiten-muenchen.de/veranstaltungen/familienkonzer
 t-weihnachten-rund-um-die-welt/
SUMMARY:Familienkonzert: Weihnachten rund um die Welt
DESCRIPTION:In ihrem Programm „Weihnachten rund um die Welt“ nehmen die
  Sprecherin Lina-Maria Bullwinkel\, die Sängerin Elisabeth Rauch und Chia
 -Lun Hsu am Klavier das Publikum mit auf eine internationale Reise durch d
 ie Weihnachtszeit. Im Wechsel gibt es bekannte und unbekannte Weihnachtsli
 eder\, Geschichten und Gedichte zu hören. Tauchen Sie ein in die festlich
 e Zeit und singen Sie mit\, wenn Klassiker wie „Jingle bells“ oder „
 Stille Nacht\, heilige Nacht“ erklingen.\nEintritt Kinder bis zwölf Jah
 re 8\, Erwachsene 15 / 18 Euro\nKarten unter info@liederfreude.de oder Tel
 . 089 333139
CATEGORIES:Literatur &amp; Musik
LOCATION:Seidlvilla\, Nikolaiplatz 1b\, München\, 80802\, Deutschland
GEO:48.15867;11.587729999999965
X-APPLE-STRUCTURED-LOCATION;VALUE=URI;X-ADDRESS=Nikolaiplatz 1b\, München\
 , 80802\, Deutschland;X-APPLE-RADIUS=100;X-TITLE=Seidlvilla:geo:48.15867,1
 1.587729999999965
END:VEVENT
BEGIN:VTIMEZONE
TZID:Europe/Berlin
X-LIC-LOCATION:Europe/Berlin
BEGIN:STANDARD
DTSTART:20251026T020000
TZOFFSETFROM:+0200
TZOFFSETTO:+0100
TZNAME:CET
END:STANDARD
END:VTIMEZONE
END:VCALENDAR