BEGIN:VCALENDAR
VERSION:2.0
PRODID:-//wp-events-plugin.com//7.2.3.1//EN
TZID:Europe/Berlin
X-WR-TIMEZONE:Europe/Berlin
BEGIN:VEVENT
UID:11663@literaturseiten-muenchen.de
DTSTART;TZID=Europe/Berlin:20251130T140000
DTEND;TZID=Europe/Berlin:20251130T170000
DTSTAMP:20250901T113220Z
URL:https://www.literaturseiten-muenchen.de/veranstaltungen/farewell-2025-
 welcome-2026-an-english-language-journaling-workshop-at-the-munich-readery
 /
SUMMARY:Farewell 2025! Welcome 2026! An English-language journaling worksho
 p at the Munich Readery
DESCRIPTION:Journaling prompts will help you reflect on 2025 and explore yo
 ur dreams and goals for 2026. Give yourself the gift of a dedicated space 
 to look back on the old year with compassion and look forward to the new y
 ear with awareness\, intention and joy.\n\nThe writing you do in this work
 shop is for you\; you will not be asked to share your writing with the lea
 der or the other participants.\n\nThis workshop will be led in English\, b
 ut you are welcome to join even if English is not your first language\, or
  if you want to write in another language.\n\nWorkshop fee: 45€ with dis
 counts available for students and in hardship cases.\n\nWorkshop leader Li
 sa Yarger is an avid journaler and the author of the award-winning book\, 
 Lovie: The Story of a Southern Midwife and an Unlikely Friendship (Univers
 ity of North Carolina Press).
CATEGORIES:Schreibwerkstatt
LOCATION:The Munich Readery\, Augustenstrasse 104\, München\, Bayern\, 807
 98\, Deutschland
GEO:48.153001;11.565726
X-APPLE-STRUCTURED-LOCATION;VALUE=URI;X-ADDRESS=Augustenstrasse 104\, Münc
 hen\, Bayern\, 80798\, Deutschland;X-APPLE-RADIUS=100;X-TITLE=The Munich R
 eadery:geo:48.153001,11.565726
END:VEVENT
BEGIN:VTIMEZONE
TZID:Europe/Berlin
X-LIC-LOCATION:Europe/Berlin
BEGIN:STANDARD
DTSTART:20251026T020000
TZOFFSETFROM:+0200
TZOFFSETTO:+0100
TZNAME:CET
END:STANDARD
END:VTIMEZONE
END:VCALENDAR