BEGIN:VCALENDAR
VERSION:2.0
PRODID:-//wp-events-plugin.com//7.2.3.1//EN
TZID:Europe/Berlin
X-WR-TIMEZONE:Europe/Berlin
BEGIN:VEVENT
UID:11901@literaturseiten-muenchen.de
DTSTART;TZID=Europe/Berlin:20251130T160000
DTEND;TZID=Europe/Berlin:20251130T160000
DTSTAMP:20251018T082723Z
URL:https://www.literaturseiten-muenchen.de/veranstaltungen/female-exile/
SUMMARY:Female Exile
DESCRIPTION:“mutter sagte immer: \,mag sie noch so weit weg sein\, haupts
 ache\, sie ist am leben.‘ die weite ferne dem tod vorzuziehen\, war der 
 geheime name der hoffnungslosigkeit.”
CATEGORIES:Lesung
LOCATION:Bellevue di Monaco\, Müllerstraße 2-6\, München\, 80469 \, Deut
 schland
GEO:48.13329;11.574735
X-APPLE-STRUCTURED-LOCATION;VALUE=URI;X-ADDRESS=Müllerstraße 2-6\, Münch
 en\, 80469 \, Deutschland;X-APPLE-RADIUS=100;X-TITLE=Bellevue di Monaco:ge
 o:48.13329,11.574735
END:VEVENT
BEGIN:VTIMEZONE
TZID:Europe/Berlin
X-LIC-LOCATION:Europe/Berlin
BEGIN:STANDARD
DTSTART:20251026T020000
TZOFFSETFROM:+0200
TZOFFSETTO:+0100
TZNAME:CET
END:STANDARD
END:VTIMEZONE
END:VCALENDAR