BEGIN:VCALENDAR
VERSION:2.0
PRODID:-//wp-events-plugin.com//7.2.3.1//EN
TZID:Europe/Berlin
X-WR-TIMEZONE:Europe/Berlin
BEGIN:VEVENT
UID:11864@literaturseiten-muenchen.de
DTSTART;TZID=Europe/Berlin:20251108T110000
DTEND;TZID=Europe/Berlin:20251108T180000
DTSTAMP:20251005T165015Z
URL:https://www.literaturseiten-muenchen.de/veranstaltungen/fest-der-bayer
 ischen-buecher-litera-bavarica/
SUMMARY:Fest der bayerischen Bücher - litera bavarica
DESCRIPTION:Entdecken Sie …\n- die Vielfalt bayerischer Publikationen: Bi
 ldbände\, Biografien\, Comics\, Erzählungen\, Kalender\, Kinder- und Jug
 endbücher\, Krimis\, Krimskrams\, Kulinarik\, Lyrik\, Noten\, Postkarten\
 , Romane\, Sachbücher\n- die schönsten Bilder aus bayerischen Publikatio
 nen\n- Informationen zu allen Gegenden Bayern mit Ihrem persönlichen „B
 uchwanderpass“\n\nWählen Sie Ihre Favoriten für den litera-bavarica-Pu
 blikumspreis\n\nGewinnen Sie beim Bücher-Glücksrad\n\nBegegnen Sie namha
 ften Autor*innen\n\n- Marita Krauss breitet ihre große Biografie über K
 önig Ludwig I. aus (11.30 h)\n- Christian Sepp entdeckt Überraschendes z
 ur ersten bayerischen Königin (11.50 h)\n- Eva M. Bauer schildert das Leb
 en auf einem Bergbauernhof im Inntal (12.40 h)\n- Reinhard Ammer widmet si
 ch dem bayerischen "oa" (12.50 h)\n- Wilhelm Füßl erinnert an einen Inge
 nieur im Schatten Oskar von Millers (13.30 h)\n- Alexander Rippach taucht 
 ein in die geheime Welt schwuler Fußballprofis (13.40 h)\n- Marita Panzer
  zeichnet die verschiedenen Gesichter von Sisi nach (14.40 h)\n- Andreas N
 erlich schildert das Leben und Sterben des größten Bayern (14.50)\n- Cla
 udia Kaufmann erzählt von einer deutsch-jüdischen Familiengeschichte (15
 .30)\n- Wolfgang Proske deckt Täter\, Helfer\, Trittbrettfahrer der NS-Di
 ktatur auf (15:40 h)\n- Thomas M. Glaw amüsiert mit einem satirischen Kul
 turszene-Krimi (16.40 h)\n- Christine Rechl stimmt mit einem Schafskrimi a
 uf Weihnachten ein (16.50 h)\n- Jan Reiser verwandelt die Geschichte vom B
 randner Kasper in einen Comic\n\nKommen Sie mit Verleger*innen großer und
  kleiner Verlage und mit Fachleuten führender Heimat- und Kulturinstituti
 onen ins Gespräch\n\nLernen Sie die Schirmherrin Ulla Müller (Bayern 1-M
 oderatin und Verfasserin der „Wunderbaren Buchtipps“) und ihre Passion
  für die Literatur kennen\n\nWeiß-blau und weltoffen – Eintritt frei!
CATEGORIES:Festival
LOCATION:Zentrum St. Bonifaz\, Karlstraße 34\, München\, Bayern\, 80333\,
  Oberbayern\, Deutschland
GEO:48.144874;11.564761
X-APPLE-STRUCTURED-LOCATION;VALUE=URI;X-ADDRESS=Karlstraße 34\, München\,
  Bayern\, 80333\, Oberbayern\, Deutschland;X-APPLE-RADIUS=100;X-TITLE=Zent
 rum St. Bonifaz:geo:48.144874,11.564761
END:VEVENT
BEGIN:VTIMEZONE
TZID:Europe/Berlin
X-LIC-LOCATION:Europe/Berlin
BEGIN:STANDARD
DTSTART:20251026T020000
TZOFFSETFROM:+0200
TZOFFSETTO:+0100
TZNAME:CET
END:STANDARD
END:VTIMEZONE
END:VCALENDAR