BEGIN:VCALENDAR
VERSION:2.0
PRODID:-//wp-events-plugin.com//7.2.3.1//EN
TZID:Europe/Berlin
X-WR-TIMEZONE:Europe/Berlin
BEGIN:VEVENT
UID:12826@literaturseiten-muenchen.de
DTSTART;TZID=Europe/Berlin:20260512T180000
DTEND;TZID=Europe/Berlin:20260512T200000
DTSTAMP:20260401T125524Z
URL:https://www.literaturseiten-muenchen.de/veranstaltungen/film-lesen-ler
 nen-blick-hinter-die-kulissen-3/
SUMMARY:Film lesen lernen: Blick hinter die Kulissen
DESCRIPTION:Filme begleiten uns. Ob im Kino\, im Fernsehen oder über Strea
 ming Plattformen\, Filme unterhalten\, berühren und lenken unseren Blick 
 in eine bestimmte Richtung. Besonders beim Dokumentarfilm stellen sich dab
 ei spannende Fragen\, weil es immer wieder um Wahrheitsanspruch und Authen
 tizität geht: Ist das\, was wir sehen\, wirklich “wahr”? Wo hat die R
 egie bewusst filmsprachliche und dramaturgische Entscheidungen getroffen\,
  die unsere Wahrnehmung der dokumentarischen Erzählung prägen?\nIn diese
 r Veranstaltung zeigt die MVHS einen künstlerischen Dokumentarfilm aus de
 m aktuellen Programm des DOK.fest München und lädt Sie anschließend zu 
 einem ausführlichen Filmgespräch mit Kathi Seemann ein\, Filmvermittleri
 n und Leiterin von DOK.education\, dem Bildungsbereich des Internationalen
  Dokumentarfilmfestivals München.\nDurch die angeleitete Filmanalyse wird
  Ihr Blick für die mediale Darstellung von Wirklichkeit geschärft. Sie e
 rfahren\, welche oft unauffälligen\, aber wirkungsvollen Regie-Entscheidu
 ngen Dokumentarfilmschaffende treffen\, um unsere Wahrnehmung von Wirklich
 keit zu lenken.\n\nZum Film:\n\nDIE UNIFORMIERTEN\nTimon Ott\, Deutschland
  2025\, 17 Min. Sprachversion: Originalsprache Deutsch\, ohne UT\nEin Phar
 maziestudent verpflichtet sich zu 17 Jahren Militärdienst bei der Bundesw
 ehr: Im Gleichschritt marschieren\, stillstehen\, salutieren. Einer fällt
  um\, der andere schmeißt hin. Der Alltag in der Kaserne und auf dem Übu
 ngsplatz konfrontiert den 18-Jährigen und seine Kamerad*innen mit harten 
 Realitäten und stellt sie auf die Probe für das anstehende Gelöbnis.\nD
 er Regisseur Timon Ott schafft mit seiner Dokufiktion ein Spannungsfeld zw
 ischen Bild- und Tonebene. Vermeintlich beobachtend blickt der Film in ein
 e brandaktuelle Lebensrealität junger Menschen. Erleben Sie künstlerisch
 es Erzählen mit der Wirklichkeit\, auf höchstem Niveau.\n\nIn Kooperatio
 n mit dem DOK.fest München / Bildungsprogramm DOK.education.\n\nNeben dem
  Format "Film lesen lernen" bietet die MVHS in Kooperation mit dem DOK.fes
 t München die Film-Reihe Hier&amp\;Jetzt mit vier Dokumentarfilmen an\, d
 ie sich in diesem Frühjahr mit den Lebensspuren und den Lebensfreuden alt
 er und hochaltriger Menschen befassen.\n\nKursnummer: W249020\n\nDozentin:
  Katharina Seemann\n\nGebühr: € 10\,-\n\nWeitere Informationen finden S
 ie unter: https://www.mvhs.de/kurse/kultur-kunst-kreativitaet/film/faszin
 ation-film/film-lesen-lernen-blick-hinter-die-kulissen-460-C-W249020
CATEGORIES:Weitere Veranstaltungen
LOCATION:MVHS Bildungszentrum Einstein 28\, Einsteinstraße 28\, München\,
  Deutschland
GEO:48.13534;11.599739999999997
X-APPLE-STRUCTURED-LOCATION;VALUE=URI;X-ADDRESS=Einsteinstraße 28\, Münch
 en\, Deutschland;X-APPLE-RADIUS=100;X-TITLE=MVHS Bildungszentrum Einstein 
 28:geo:48.13534,11.599739999999997
END:VEVENT
BEGIN:VTIMEZONE
TZID:Europe/Berlin
X-LIC-LOCATION:Europe/Berlin
BEGIN:DAYLIGHT
DTSTART:20260329T030000
TZOFFSETFROM:+0100
TZOFFSETTO:+0200
TZNAME:CEST
END:DAYLIGHT
END:VTIMEZONE
END:VCALENDAR