BEGIN:VCALENDAR
VERSION:2.0
PRODID:-//wp-events-plugin.com//7.2.3.1//EN
TZID:Europe/Berlin
X-WR-TIMEZONE:Europe/Berlin
BEGIN:VEVENT
UID:11734@literaturseiten-muenchen.de
DTSTART;TZID=Europe/Berlin:20251025T193000
DTEND;TZID=Europe/Berlin:20251025T193000
DTSTAMP:20250909T090144Z
URL:https://www.literaturseiten-muenchen.de/veranstaltungen/flieh-mein-soh
 n-lesung-und-talk-mit-pappy-orion/
SUMMARY:Flieh\, mein Sohn: Lesung und Talk mit Pappy Orion
DESCRIPTION:Eintritt frei\nVeranstaltungsort: Projektor\nAls der Bürgerkri
 eg im Kongo ausbricht\, beherrschen Chaos und Verwüstung das Land\, und R
 ebellengruppen rekrutieren Kindersoldaten für ihre Kämpfe. Pappys Eltern
  sehen keine Wahl: Sie beschließen\, ihn wegzuschicken. Heimlich\, früh 
 morgens. Auf eine Reise ins Ungewisse. Allein. Mit riesengroßer Angst im 
 Gepäck und Gefahr als ständigem Begleiter. Nach Jahren auf der Flucht wi
 rd er eingeholt: von der unendlichen Liebe Gottes\, die sein Leben radikal
  verändert. Als er die Straße seine Heimat nennt\, findet er sein Zuhaus
 e bei Gott und seine Berufung.\n\n\n\nDie Lesung mit Musik findet im Rahme
 n des Mental Health Arts Festival statt.\n\nModeration: Kokonelle\n\nDie V
 eranstaltung findet auf Englisch statt.\n\nInformationen zur Anmeldung\n\n
 \nOhne Anmeldung\n\n\n
CATEGORIES:Lesung
LOCATION:Münchner Stadtbibliothek im HP8\, Hans-Preißinger-Straße 8\, M
 ünchen\, Deutschland
GEO:48.111734;11.553315
X-APPLE-STRUCTURED-LOCATION;VALUE=URI;X-ADDRESS=Hans-Preißinger-Straße 8\
 , München\, Deutschland;X-APPLE-RADIUS=100;X-TITLE=Münchner Stadtbibliot
 hek im HP8:geo:48.111734,11.553315
END:VEVENT
BEGIN:VTIMEZONE
TZID:Europe/Berlin
X-LIC-LOCATION:Europe/Berlin
BEGIN:DAYLIGHT
DTSTART:20250330T030000
TZOFFSETFROM:+0100
TZOFFSETTO:+0200
TZNAME:CEST
END:DAYLIGHT
END:VTIMEZONE
END:VCALENDAR