BEGIN:VCALENDAR
VERSION:2.0
PRODID:-//wp-events-plugin.com//7.2.3.1//EN
TZID:Europe/Berlin
X-WR-TIMEZONE:Europe/Berlin
BEGIN:VEVENT
UID:12031@literaturseiten-muenchen.de
DTSTART;TZID=Europe/Berlin:20251118T190000
DTEND;TZID=Europe/Berlin:20251118T190000
DTSTAMP:20251029T095331Z
URL:https://www.literaturseiten-muenchen.de/veranstaltungen/fraeulein-prol
 et-lesung-mit-cornelia-naumann/
SUMMARY:Fräulein Prolet: Lesung mit Cornelia Naumann
DESCRIPTION:Eintritt frei\nMünchen\, 8. November 1923\n\nAusnahmezustand\,
  Inflation\, Putschgerüchte. Die junge Fotografin Fritzi traut sich zu ei
 ner illegalen Kundgebung. Mit ihrer „Weibergang“\, den Frauen des „B
 und sozialistischer Frauen“ (BSF)\, feiert sie auf der Theresienwiese de
 n fünften Jahrestag der Revolution. Die Frauen prangern den zunehmenden T
 error der rechten Kampfbünde an und fordern Republik statt Ordnungszelle.
  Plötzlich verschwindet Fritzi im Bauch der Bavaria. Ist sie entführt wo
 rden? Wer hat ein Interesse\, Fritzi verschwinden zu lassen?\n\nMit „Fr
 äulen Prolet“ hat Cornelia Naumann den vergessenen Frauen des BSF nachg
 espürt und Erstaunliches zutage gefördert.\n„Wenn jemand tief im Stoff
  steht\, was die bayerische Revolution von 1918 und die Rolle der Frauen d
 abei angeht\, dann die Münchner Autorin und Dramaturgin Cornelia Naumann
 “ urteilt in der Süddeutschen Zeitung vom 27. März 2024 die Journalist
 in Antje Weber.\n\n\n\n\nCornelia Naumann\, geboren in Marburg\, beschäft
 igt sich seit vielen Jahren mit bedeutenden\, zu Unrecht vergessenen Fraue
 n. Theaterstücken über die fahrende Komödiantin Karoline Schulze-Kummer
 feld und die deutsch-jüdische Lyrikerin Gertrud Kolmar folgten biografisc
 he Romane über Wilhelmine von Bayreuth\, Anna Dorothea Therbusch sowie Is
 abeau de Bavière und die Philosophin Christine de Pizan.\n\nIn der editio
 n av erschien von ihr „Steckbriefe“\, gemeinsam mit Günther Gerstenbe
 rg\, und „Ich hoffe noch\, dass aller Menschen Glück nahe sein muss“\
 , Dokumente des revolutionären Lebens der Sarah Sonja Lerch\, geb. Rabino
 witz\, auch Gegenstand ihres Romans „Der Abend kommt so schnell“ (Meß
 kirch 2018).\n\nCornelia Naumann lebt und arbeitet in München und auf Nor
 dstrand.\n\nInformationen zur Anmeldung\n\n\nReservierungen persönlich vo
 r Ort\, telefonisch unter 089 233772448 oder per Mail an stb.westend.kult(
 at)muenchen.de\n\n\n\n\nKooperationspartner\n\n\nBücher &amp\; mehr e. V.
  - Förderverein der Münchner Stadtbibliothek\n\n\n
CATEGORIES:Lesung
LOCATION:Münchner Stadtbibliothek Westend\, Schießstättstr. 20 c\, Münc
 hen\, Bayern\, 80339\, Deutschland
GEO:48.1365294;11.545402200000012
X-APPLE-STRUCTURED-LOCATION;VALUE=URI;X-ADDRESS=Schießstättstr. 20 c\, M
 ünchen\, Bayern\, 80339\, Deutschland;X-APPLE-RADIUS=100;X-TITLE=Münchne
 r Stadtbibliothek Westend:geo:48.1365294,11.545402200000012
END:VEVENT
BEGIN:VTIMEZONE
TZID:Europe/Berlin
X-LIC-LOCATION:Europe/Berlin
BEGIN:STANDARD
DTSTART:20251026T020000
TZOFFSETFROM:+0200
TZOFFSETTO:+0100
TZNAME:CET
END:STANDARD
END:VTIMEZONE
END:VCALENDAR