BEGIN:VCALENDAR
VERSION:2.0
PRODID:-//wp-events-plugin.com//7.2.3.1//EN
TZID:Europe/Berlin
X-WR-TIMEZONE:Europe/Berlin
BEGIN:VEVENT
UID:12057@literaturseiten-muenchen.de
DTSTART;TZID=Europe/Berlin:20251202T190000
DTEND;TZID=Europe/Berlin:20251202T203000
DTSTAMP:20251103T161104Z
URL:https://www.literaturseiten-muenchen.de/veranstaltungen/frau-im-mond-p
 reisverleihung-an-pierre-jarawan/
SUMMARY:»Frau im Mond« Preisverleihung an Pierre Jarawan
DESCRIPTION:\n\nLaudatio: Fee Brembeck\nLive-Musik: Rabih Lahoud (Gesang) &
 amp\; Matthias Kurth (Gitarre &amp\; Oud)\n\n»Hier wagt ein Vertreter der
  jungen Gegenwartsliteratur die Langstrecke\, vertraut ganz nonchalant auf
  die alte Magie des Erzählens« –\n\nso jubelt die Tukan-Preis-Jury üb
 er den neuen Roman von Pierre Jarawan\, der historische Ereignisse\, wie d
 ie verheerende Explosion im Hafen von Beirut\, mit einer bewegenden Famili
 engeschichte verknüpft. Es entsteht ein Panorama\, das weit über das Sch
 icksal des Nahen Ostens hinausreicht. »Frau im Mond« (Berlin Verlag) ist
  »bildintensiv erzählt\, in warmem\, leichtem Ton«\, so die Jury\, und 
 als Abschluss der beeindruckenden Libanon-Trilogie von Pierre Jarawan sein
  »literarisch bisher überzeugendstes Buch«.\n\n&nbsp\;\n\nEINTRITT FREI
  (Anmeldung unter tukanpreis@muenchen.de)Veranstalter: Kulturreferat der L
 andeshauptstadt München //\nTukan-Kreis // In Kooperation mit der Stiftun
 g Literaturhaus
CATEGORIES:Buchpräsentation,Gespräch / Diskussion
LOCATION:Literaturhaus München\, Salvatorplatz 1\, München\, Bayern\, 803
 33\, Deutschland
GEO:48.142051;11.574991
X-APPLE-STRUCTURED-LOCATION;VALUE=URI;X-ADDRESS=Salvatorplatz 1\, München\
 , Bayern\, 80333\, Deutschland;X-APPLE-RADIUS=100;X-TITLE=Literaturhaus M
 ünchen:geo:48.142051,11.574991
END:VEVENT
BEGIN:VTIMEZONE
TZID:Europe/Berlin
X-LIC-LOCATION:Europe/Berlin
BEGIN:STANDARD
DTSTART:20251026T020000
TZOFFSETFROM:+0200
TZOFFSETTO:+0100
TZNAME:CET
END:STANDARD
END:VTIMEZONE
END:VCALENDAR