BEGIN:VCALENDAR
VERSION:2.0
PRODID:-//wp-events-plugin.com//7.2.3.1//EN
TZID:Europe/Berlin
X-WR-TIMEZONE:Europe/Berlin
BEGIN:VEVENT
UID:12206@literaturseiten-muenchen.de
DTSTART;TZID=Europe/Berlin:20260225T190000
DTEND;TZID=Europe/Berlin:20260225T203000
DTSTAMP:20251203T152809Z
URL:https://www.literaturseiten-muenchen.de/veranstaltungen/frauke-rostals
 ki-warum-wir-nicht-zum-klimaschutz-verpflichtet-sind-und-was-unsere-verant
 wortung-eigentlich-ist/
SUMMARY:Frauke Rostalski: Warum wir nicht zum Klimaschutz verpflichtet sind
  - und was unsere Verantwortung eigentlich ist
DESCRIPTION:In Sachen Klimawandel scheinen sich viele einig zu sein: Wir al
 le sind verpflichtet\, unseren individuellen Verbrauch von Treibhausgasen 
 umfangreich zu reduzieren. Die harte Wahrheit lautet aber\, dass der Klima
 wandel ein globales Problem ist\, das auch nur auf globaler Ebene effektiv
  gelöst werden kann. Hier steht in erster Linie die Politik in der Pflich
 t\, auf ein globales Konzept hinzuwirken. Derweil ist eine Abkühlung unse
 rer Klimadebatte geboten\, in der Bekenntniszwänge und emotionale Anschul
 digungen eine Mauer der Antipathie aufrichten\, die sachliche Auseinanders
 etzungen behindert.\n\nProf. Dr. Dr. Frauke Rostalski\nist Professorin fü
 r Strafrecht\, Strafprozessrecht\, Rechtsphilosophie\, Wirtschaftsrecht\, 
 Medizinstrafrecht und Rechtsvergleichung an der Universität zu Köln. Sei
 t 2020 ist sie Mitglied des deutschen Ethikrates.\n\nAnmeldung zu diesem O
 nline-Vortrag erbeten unter:\nhttps://www.stadtakademie-muenchen.de/verans
 taltung/warum-wir-nicht-zum-klimaschutz-verpflichtet-sind/
CATEGORIES:Buchpräsentation,Gespräch /
 Diskussion,Online-Veranstaltung,Vortrag
END:VEVENT
BEGIN:VTIMEZONE
TZID:Europe/Berlin
X-LIC-LOCATION:Europe/Berlin
BEGIN:STANDARD
DTSTART:20251026T020000
TZOFFSETFROM:+0200
TZOFFSETTO:+0100
TZNAME:CET
END:STANDARD
END:VTIMEZONE
END:VCALENDAR