BEGIN:VCALENDAR
VERSION:2.0
PRODID:-//wp-events-plugin.com//7.2.3.1//EN
TZID:Europe/Berlin
X-WR-TIMEZONE:Europe/Berlin
BEGIN:VEVENT
UID:11652@literaturseiten-muenchen.de
DTSTART;TZID=Europe/Berlin:20251015T180000
DTEND;TZID=Europe/Berlin:20251015T200000
DTSTAMP:20250828T130553Z
URL:https://www.literaturseiten-muenchen.de/veranstaltungen/frei-schreiben
 /
SUMMARY:Frei schreiben
DESCRIPTION:Einfach drauflosschreiben\, den Gedanken freien Lauf lassen - e
 s kann guttun\, sich schreibend mit Erlebtem\, mit Empfindungen\, Wünsche
 n oder Fantasien zu beschäftigen. Damit loszulegen fällt jedoch häufig 
 schwer. Dieser Kurs bietet Ihnen den Raum dafür\, und vor allem: Anregung
 en. Auf unangestrengte Weise und im Austausch mit anderen probieren wir ve
 rschiedene Methoden aus dem Kreativen Schreiben aus. Spontan greifen Sie a
 uf\, was Ihnen durch den Kopf geht\, und bringen Ihre Assoziationen handsc
 hriftlich zu Papier.\n\nKursnummer: V245050\n\nDozentin: Gunda Achterhold\
 n\nTermine: 15.10.2025\, 12.11.2025\, 10.12.2025\, 07.01.2026\, 28.01.2026
 \n\nGebühr: € 85\,- (Die Termine können einzeln gebucht werden) Einzel
 ticket € 17\,-\n\nWeitere Informationen erhalten Sie unter: https://www
 .mvhs.de/?\n\n&nbsp\;
CATEGORIES:Schreibwerkstatt
LOCATION:MVHS im HP8\, Hans-Preißinger-Str. 8 \, München\, Deutschland\, 
 81379\, Sendling\, Deutschland
GEO:48.110833;11.553216
X-APPLE-STRUCTURED-LOCATION;VALUE=URI;X-ADDRESS=Hans-Preißinger-Str. 8 \, 
 München\, Deutschland\, 81379\, Sendling\, Deutschland;X-APPLE-RADIUS=100
 ;X-TITLE=MVHS im HP8:geo:48.110833,11.553216
END:VEVENT
BEGIN:VTIMEZONE
TZID:Europe/Berlin
X-LIC-LOCATION:Europe/Berlin
BEGIN:DAYLIGHT
DTSTART:20250330T030000
TZOFFSETFROM:+0100
TZOFFSETTO:+0200
TZNAME:CEST
END:DAYLIGHT
END:VTIMEZONE
END:VCALENDAR