BEGIN:VCALENDAR
VERSION:2.0
PRODID:-//wp-events-plugin.com//7.2.3.1//EN
TZID:Europe/Berlin
X-WR-TIMEZONE:Europe/Berlin
BEGIN:VEVENT
UID:11914@literaturseiten-muenchen.de
DTSTART;TZID=Europe/Berlin:20251105T190000
DTEND;TZID=Europe/Berlin:20251105T203000
DTSTAMP:20251013T091255Z
URL:https://www.literaturseiten-muenchen.de/veranstaltungen/freimaurerei-n
 euoffenbarungen-und-moderne-esoterik-religioes-weltanschauliche-gegenwarts
 kulturen/
SUMMARY:Freimaurerei\, Neuoffenbarungen und moderne Esoterik: Religiös-wel
 tanschauliche Gegenwartskulturen
DESCRIPTION:In unserer pluralen Gesellschaft koexistieren unterschiedliche 
 religiöse und weltanschauliche Vorstellungen und beeinflussen sich gegens
 eitig. Die Art und Weise\, wie Menschen sich angesichts existentieller Her
 ausforderungen orientieren\, ist breit gefächert und faszinierend. Mit R
 ückblenden auf Entwicklungen seit der Neuzeit erläutern Matthias Pöhlma
 nn und Daria Pezzoli-Olgiati ausgewählte Dimensionen von Gegenwartskultur
 en anhand dreier Linien der aktuellen religiösen und weltanschaulichen La
 ndschaft: die Freimaurerei\, die Neuoffenbarungen und die moderne Esoterik
 .\n\nIm Anschluss an die Veranstaltung sind Sie herzlich zum Stehempfang e
 ingeladen.\n\nPD Dr. Matthias Pöhlmann\nEvangelischer Theologe und Publiz
 ist\, Beauftragter für Sekten- und Weltanschauungsfragen der Evangelisch-
 Lutherischen Kirchen in Bayern\n\nProf. Dr. Daria Pezzoli-Olgiati\nProfess
 orin für Religionswissenschaft und Religionsgeschichte an der Evangelisch
 -Theologischen Fakultät der LMU München. Ihre Forschungsarbeit fokussier
 t auf Theorien und Methoden der Religionsforschung sowie das Verhältnis v
 on Medien und Religion.\n\nMusikalische Begleitung:\nIrina Firouzi\, Sopra
 nistin (Germering) &amp\; Benedikt Ofner\, Korrepetitor (Landestheater Lin
 z)\n\nWir bitten um Anmeldung:\nhttps://www.stadtakademie-muenchen.de/vera
 nstaltung/freimaurerei-neuoffenbarungen-und-moderne-esoterik/
CATEGORIES:Buchpräsentation,Gespräch / Diskussion,Lesung,Literatur &amp;
 Musik,Vortrag
LOCATION:Evangelische Stadtakademie München\, Herzog-Wilhelm-Straße 24\, 
 München\, 80331\, Deutschland
GEO:48.135242;11.566574
X-APPLE-STRUCTURED-LOCATION;VALUE=URI;X-ADDRESS=Herzog-Wilhelm-Straße 24\,
  München\, 80331\, Deutschland;X-APPLE-RADIUS=100;X-TITLE=Evangelische St
 adtakademie München:geo:48.135242,11.566574
END:VEVENT
BEGIN:VTIMEZONE
TZID:Europe/Berlin
X-LIC-LOCATION:Europe/Berlin
BEGIN:STANDARD
DTSTART:20251026T020000
TZOFFSETFROM:+0200
TZOFFSETTO:+0100
TZNAME:CET
END:STANDARD
END:VTIMEZONE
END:VCALENDAR