BEGIN:VCALENDAR
VERSION:2.0
PRODID:-//wp-events-plugin.com//7.2.3.1//EN
TZID:Europe/Berlin
X-WR-TIMEZONE:Europe/Berlin
BEGIN:VEVENT
UID:11893@literaturseiten-muenchen.de
DTSTART;TZID=Europe/Berlin:20251113T190000
DTEND;TZID=Europe/Berlin:20251113T190000
DTSTAMP:20251009T141806Z
URL:https://www.literaturseiten-muenchen.de/veranstaltungen/friedenstuecht
 ig-werden-von-der-kriegslogik-zur-kooperation/
SUMMARY:Friedenstüchtig werden – von der Kriegslogik zur Kooperation
DESCRIPTION:Der eskalierenden Kriegslogik in Wirtschaft und Geopolitik setz
 t Fabian Scheidler das große Zivilisationsprojekt Friedenstüchtigkeit en
 tgegen\, in dem wir die Errungenschaften von 200 Jahren Zivilgesellschaft 
 und Weltfriedensfriedensbewegung verteidigen und weiterführen. In seinem 
 neuen Buch analysiert er am Beispiel von Kriegsschauplätzen wie Gaza und 
 Ukraine\, aber auch dem Naturumgang\, wie die Kriegslogik eine kooperative
  und rationale Friedenslogik systematisch untergräbt und stets neue Feind
 e schafft. Die massive Militarisierung zerstört außerdem den Wohlfahrtss
 taat und blockiert die Chancen auf eine sozial-ökologische Transformation
 . Im Gegensatz dazu kann eine Friedenslogik aufbauen auf einer erfolgreich
 en Geschichte von Friedenskämpfen\, dem Konzept der Gemeinsamen Sicherhei
 t und der Weiterentwicklung ziviler Institutionen\, insbesondere der Verei
 nten Nationen. Dazu gehört ein friedlicher Übergang von der zerfallenden
  westlichen Hegemonie zur Multipolarität und zu einem kooperativem Weltha
 ndel unter dem ethischen Dach der Menschenrechte und der Rechte der Natur.
 \n\nIm Zusammendenken von Ökologie\, Friedenskampf und einer postkapitali
 stischen Wirtschaft könnte eine globale Bewegung mit Vernunftethik\, aber
  auch mit Liebe zu unserer geteilten Welt neue Kraft bekommen!\n\nModerati
 on: Renate Börger\, Journalistin\n\nVeranstaltungsort: Kleiner Saal 211+2
 12\nVeranstaltende*r: Trägerkreis EineWeltHaus München e.V.\, Attac und 
 DiEM25\nEintritt: 5\,00€\, ermäßigt 3\,00€
CATEGORIES:Gespräch / Diskussion,Lesung
LOCATION:EineWeltHaus\, Schwanthalerstr. 80\, München\, 80336\, Deutschlan
 d
GEO:48.13769;11.55287
X-APPLE-STRUCTURED-LOCATION;VALUE=URI;X-ADDRESS=Schwanthalerstr. 80\, Münc
 hen\, 80336\, Deutschland;X-APPLE-RADIUS=100;X-TITLE=EineWeltHaus:geo:48.1
 3769,11.55287
END:VEVENT
BEGIN:VTIMEZONE
TZID:Europe/Berlin
X-LIC-LOCATION:Europe/Berlin
BEGIN:STANDARD
DTSTART:20251026T020000
TZOFFSETFROM:+0200
TZOFFSETTO:+0100
TZNAME:CET
END:STANDARD
END:VTIMEZONE
END:VCALENDAR