BEGIN:VCALENDAR
VERSION:2.0
PRODID:-//wp-events-plugin.com//7.2.3.1//EN
TZID:Europe/Berlin
X-WR-TIMEZONE:Europe/Berlin
BEGIN:VEVENT
UID:12210@literaturseiten-muenchen.de
DTSTART;TZID=Europe/Berlin:20251213T200000
DTEND;TZID=Europe/Berlin:20251213T213000
DTSTAMP:20251207T155128Z
URL:https://www.literaturseiten-muenchen.de/veranstaltungen/friedrich-ani-
 schlupfwinkler-lesung/
SUMMARY:Friedrich Ani - Schlupfwinkler - Lesung
DESCRIPTION:Ein kleines Dorf in Bayern\, Ende der 1950er Jahre: Ein Kind ko
 mmt zur Welt aus einer Verbindung\, die hier niemand für möglich gehalte
 n hätte. Die Mutter ist Schlesierin und gehört zu den „Heimatvertriebe
 nen“\, die sich ein Jahrzehnt zuvor im Ort niedergelassen haben. Der Vat
 er ist ein Medizinstudent aus Syrien\, der ins Dorf kommt\, um am Goethe-I
 nstitut Deutsch zu lernen. Zum Zeitpunkt des Kennenlernens hatten sie kein
 e gemeinsame Sprache\, und ihr gegenseitiges Sprechen blieb ein Leben lang
  brüchig. So wächst das Kind in einer Atmosphäre des Schweigens auf\, s
 ucht nach einem Schlupfwinkel für die eigene Existenz und findet ihn in d
 er Literatur.\n\nSchlupfwinkel beschreibt den Werdegang eines Autors\, der
  zwar zu einer eigenen Sprache findet und damit Erfolge feiert\, doch im L
 eben ein Verlorener bleibt. Es ist gleichzeitig ein Versuch\, die Geschich
 te der Eltern aus der Distanz heraus zu verstehen und den Momenten nachzus
 püren\, wo sie vielleicht eine Chance gehabt hätten\, eine ausgeglichene
  Familie zu werden. Und schließlich ist es eine Geschichte von Flucht und
  möglichem Ankommen\, die sich in den „Wirtschaftswunderjahren“ abges
 pielt hat\, aber bis heute nachhallt.\n\nGefördert vom Kulturreferat der 
 Landeshauptstadt München.\n\nEintritt: 12\,00 € (VVK Tickets gibt es im
  Optimal)
CATEGORIES:Lesung
LOCATION:Optimal Records\, Kolosseumstr. 6\, München\, 80469\, Deutschland
GEO:48.130446;11.571383
X-APPLE-STRUCTURED-LOCATION;VALUE=URI;X-ADDRESS=Kolosseumstr. 6\, München\
 , 80469\, Deutschland;X-APPLE-RADIUS=100;X-TITLE=Optimal Records:geo:48.13
 0446,11.571383
END:VEVENT
BEGIN:VTIMEZONE
TZID:Europe/Berlin
X-LIC-LOCATION:Europe/Berlin
BEGIN:STANDARD
DTSTART:20251026T020000
TZOFFSETFROM:+0200
TZOFFSETTO:+0100
TZNAME:CET
END:STANDARD
END:VTIMEZONE
END:VCALENDAR