BEGIN:VCALENDAR
VERSION:2.0
PRODID:-//wp-events-plugin.com//7.2.3.1//EN
TZID:Europe/Berlin
X-WR-TIMEZONE:Europe/Berlin
BEGIN:VEVENT
UID:12192@literaturseiten-muenchen.de
DTSTART;TZID=Europe/Berlin:20260124T150000
DTEND;TZID=Europe/Berlin:20260124T180000
DTSTAMP:20251202T113945Z
URL:https://www.literaturseiten-muenchen.de/veranstaltungen/fruehling-somm
 er-herbst-winter-vorlese-nachmittag-ausstellungsbesuch/
SUMMARY:»Frühling\, Sommer\, Herbst &amp\; Winter« Vorlese-Nachmittag &a
 mp\; Ausstellungsbesuch
DESCRIPTION:Pädagogische Begleitung: Anne Wagner\n\n»Mumin hatte schon im
 mer die allerletzten Sommerwochen am liebsten gehabt\, ohne recht zu wisse
 n\, warum.«\nTOVE JANSSON »EINE DROLLIGE GESELLSCHAFT«\n\nIm Mumintal h
 at jede Jahreszeit ihre eigene Magie – vom ersten Schneefall bis zu lang
 en Sommertagen\, von blühenden Bäumen im Frühling bis zu heftigen Stür
 men im Herbst. In der Vorlesestunde hören die Kinder die schönsten Jahre
 szeiten-Erzählungen aus der Welt der Mumins\, unsere Pädagogin hilft\, e
 ine Brücke zum Hier und Heute zu schlagen: Wie erlebt Ihr die Jahreszeite
 n? Welche ist Euch die liebste? Und natürlich gehen wir im Anschluss zusa
 mmen in die Ausstellung und erkunden die Welt der Mumins mit frischem Blic
 k.\n\nTickets erhältlich unter ReserviX\nDAUER: 15-18 Uhr\nEINTRITT: EURO
  5.-\nFür 20 Kinder von 6-10 Jahren\n\nBITTE BRINGEN SIE IHRE KINDER DIRE
 KT ZUM FORUM INS 3. OG DES LITERATURHAUSES // ABHOLUNG UM 18 UHR IN DER GA
 LERIE (EG).\n\nVeranstalter: Stiftung Literaturhaus\n\n
CATEGORIES:Buchpräsentation,Gespräch / Diskussion,Lesung
LOCATION:Literaturhaus München\, Salvatorplatz 1\, München\, Bayern\, 803
 33\, Deutschland
GEO:48.142051;11.574991
X-APPLE-STRUCTURED-LOCATION;VALUE=URI;X-ADDRESS=Salvatorplatz 1\, München\
 , Bayern\, 80333\, Deutschland;X-APPLE-RADIUS=100;X-TITLE=Literaturhaus M
 ünchen:geo:48.142051,11.574991
END:VEVENT
BEGIN:VTIMEZONE
TZID:Europe/Berlin
X-LIC-LOCATION:Europe/Berlin
BEGIN:STANDARD
DTSTART:20251026T020000
TZOFFSETFROM:+0200
TZOFFSETTO:+0100
TZNAME:CET
END:STANDARD
END:VTIMEZONE
END:VCALENDAR