BEGIN:VCALENDAR
VERSION:2.0
PRODID:-//wp-events-plugin.com//7.2.3.1//EN
TZID:Europe/Berlin
X-WR-TIMEZONE:Europe/Berlin
BEGIN:VEVENT
UID:12970@literaturseiten-muenchen.de
DTSTART;TZID=Europe/Berlin:20260425T180000
DTEND;TZID=Europe/Berlin:20260425T200000
DTSTAMP:20260420T123526Z
URL:https://www.literaturseiten-muenchen.de/veranstaltungen/gar-nicht-so-e
 infach-mit-der-liebe-frauenmaerchen-i/
SUMMARY:Gar nicht so einfach mit der Liebe (Frauenmärchen I)
DESCRIPTION:Ein unterhaltsamer Erzählabend für Erwachsene mit frei und le
 bendig erzählten Märchen aus verschiedenen Ländern mit starken Frauenfi
 guren sowohl aus dieser als auch aus der anderen Welt.\n\nMal romantisch\,
  mal spannend\, mal überraschend – in jedem Fall immer voller Zauber un
 d mit passenden Klängen untermalt.\n\nVergessen Sie an diesem Abend einfa
 ch Ihren Alltag und tauchen Sie mit uns in die anregenden Bilderwelten der
  Märchen ein!\n\nEs erzählen Claudia Forster und Ruth Martina Mendler.\n
 \nEinlass ab 17.45h\nEintritt frei\, Spenden sind sehr willkommen!
CATEGORIES:Literatur &amp; Musik
LOCATION:Danklsalon\, Danklstraße 11\, München\, Bayern\, 81371\, Deutsch
 land
GEO:48.119699;11.546827
X-APPLE-STRUCTURED-LOCATION;VALUE=URI;X-ADDRESS=Danklstraße 11\, München\
 , Bayern\, 81371\, Deutschland;X-APPLE-RADIUS=100;X-TITLE=Danklsalon:geo:4
 8.119699,11.546827
END:VEVENT
BEGIN:VTIMEZONE
TZID:Europe/Berlin
X-LIC-LOCATION:Europe/Berlin
BEGIN:DAYLIGHT
DTSTART:20260329T030000
TZOFFSETFROM:+0100
TZOFFSETTO:+0200
TZNAME:CEST
END:DAYLIGHT
END:VTIMEZONE
END:VCALENDAR