BEGIN:VCALENDAR
VERSION:2.0
PRODID:-//wp-events-plugin.com//7.2.3.1//EN
TZID:Europe/Berlin
X-WR-TIMEZONE:Europe/Berlin
BEGIN:VEVENT
UID:11545@literaturseiten-muenchen.de
DTSTART;TZID=Europe/Berlin:20251019T160000
DTEND;TZID=Europe/Berlin:20251019T173000
DTSTAMP:20250916T140123Z
URL:https://www.literaturseiten-muenchen.de/veranstaltungen/gemeinsam-zuho
 eren-gebrauchsanweisung-fuer-nachbarn/
SUMMARY:gemeinsam zuhören: Gebrauchsanweisung für Nachbarn
DESCRIPTION:Lesung und Gespräch\n\nNachbarschaft ist Gemeinschaft\, im Gut
 en wie im Schlechten. Von Zimmernachbarn über Dorfgemeinschaften und Gro
 ßstadt-Schrebergarten-Nachbarschaften sind Nachbar:innen diejenigen\, mit
  denen wir in Gemeinschaft leben. Lasst uns darüber austauschen\, welchen
  Wert diese Form der Gemeinschaft hat und Martin Hyun lauschen\, wenn er a
 us der Gebrauchsanweisung vorliest\, die jede:r von uns gebrauchen kann.\n
 \nMit: Martin Hyun (Autor &amp\; Politikwissenschaftler)\n\nTickets zum Wa
 hlpreis von 4-12€ unter\nhttps://rausgegangen.de/events/gemeinsam-zuhore
 n-gebrauchsanweisung-fur-nachbarn-0/
CATEGORIES:Buchpräsentation,Gespräch / Diskussion
LOCATION:GESELLSCHAFTSRAUM\, Buttermelcherstraße 15\, München\, Deutschla
 nd
GEO:48.132404;11.578812
X-APPLE-STRUCTURED-LOCATION;VALUE=URI;X-ADDRESS=Buttermelcherstraße 15\, M
 ünchen\, Deutschland;X-APPLE-RADIUS=100;X-TITLE=GESELLSCHAFTSRAUM:geo:48.
 132404,11.578812
END:VEVENT
BEGIN:VTIMEZONE
TZID:Europe/Berlin
X-LIC-LOCATION:Europe/Berlin
BEGIN:DAYLIGHT
DTSTART:20250330T030000
TZOFFSETFROM:+0100
TZOFFSETTO:+0200
TZNAME:CEST
END:DAYLIGHT
END:VTIMEZONE
END:VCALENDAR