BEGIN:VCALENDAR
VERSION:2.0
PRODID:-//wp-events-plugin.com//7.2.3.1//EN
TZID:Europe/Berlin
X-WR-TIMEZONE:Europe/Berlin
BEGIN:VEVENT
UID:11548@literaturseiten-muenchen.de
DTSTART;TZID=Europe/Berlin:20250916T190000
DTEND;TZID=Europe/Berlin:20250916T220000
DTSTAMP:20250808T134407Z
URL:https://www.literaturseiten-muenchen.de/veranstaltungen/gespraech-das-
 erbe-von-elisabeth-braun/
SUMMARY:Gespräch: Das Erbe von Elisabeth Braun
DESCRIPTION:1934 erwarb Elisabeth Braun das Hildebrandhaus. Sie entstammte 
 einer alteingesessenen jüdischen Münchner Familie und trat 1920 in die E
 vangelisch-Lutherische Kirche ein. Als Jüdin wurde sie von den Behörden 
 des NS-Regimes systematisch entrechtet und beraubt. Im November 1941 wurde
  sie nach Kaunas verschleppt und brutal ermordet. In ihrem Testament setzt
 e sie die Evangelisch-Lutherische Landeskirche in Bayern als Alleinerbin e
 in. Ende der 1960er Jahre veräußerte die Kirche das Hildebrandhaus an ei
 nen Immobilienspekulanten. Der Abriss konnte in letzter Minute abgewendet 
 werden.\nWie blicken die Evangelisch-Lutherische Kirche und die Monacensia
  heute auf das Erbe von Elisabeth Braun?\nEin Gespräch mit Thomas Prieto 
 Peral\, evangelischer Regionalbischof im Kirchenkreis Schwaben-Altbayern u
 nd Anke Buettner\, Leiterin der Monacensia. Moderation: Felicitas Friedric
 h\, Kulturvermittlerin der Monacensia\n\nEintritt frei / ohne Anmeldung
CATEGORIES:Gespräch / Diskussion
LOCATION:Monacensia im Hildebrandhaus\, Maria-Theresia-Str. 23\, München\,
  Deutschland
GEO:48.1436397;11.598950100000024
X-APPLE-STRUCTURED-LOCATION;VALUE=URI;X-ADDRESS=Maria-Theresia-Str. 23\, M
 ünchen\, Deutschland;X-APPLE-RADIUS=100;X-TITLE=Monacensia im Hildebrandh
 aus:geo:48.1436397,11.598950100000024
END:VEVENT
BEGIN:VTIMEZONE
TZID:Europe/Berlin
X-LIC-LOCATION:Europe/Berlin
BEGIN:DAYLIGHT
DTSTART:20250330T030000
TZOFFSETFROM:+0100
TZOFFSETTO:+0200
TZNAME:CEST
END:DAYLIGHT
END:VTIMEZONE
END:VCALENDAR