BEGIN:VCALENDAR
VERSION:2.0
PRODID:-//wp-events-plugin.com//7.2.3.1//EN
TZID:Europe/Berlin
X-WR-TIMEZONE:Europe/Berlin
BEGIN:VEVENT
UID:12343@literaturseiten-muenchen.de
DTSTART;TZID=Europe/Berlin:20260224T190000
DTEND;TZID=Europe/Berlin:20260224T203000
DTSTAMP:20260109T122758Z
URL:https://www.literaturseiten-muenchen.de/veranstaltungen/gespraech-mit-
 till-koessler-franco-der-ewige-faschist-eine-biografie/
SUMMARY:Gespräch mit Till Kössler: Franco. Der ewige Faschist: eine Biogr
 afie
DESCRIPTION:Der Spanier Francisco Franco zählt zu den prägenden Diktatore
 n des 20. Jahrhunderts. Anders als seine Verbündeten Hitler und Mussolini
  konnte er sich über den Zweiten Weltkrieg hinaus bis 1975 an der Macht h
 alten. Die Einordnung seiner Person und seiner beinahe 40-jährigen Herrsc
 haft in die europäische Zeitgeschichte ist dabei auch heute noch umstritt
 en. Diese umfassende Darstellung von Francos Leben gibt Einblicke in die w
 echselvolle Geschichte Spaniens im 20. Jahrhundert und bietet zugleich Ans
 atzpunkte für ein besseres Verständnis autoritärer Herrschaft in der Ge
 genwart.\n\nNach 1945 galt Franco vielen als ewiger Faschist\, der nicht m
 ehr in das neue demokratische Europa passte. Und doch bot er sich der west
 lichen Welt erfolgreich als Partner an und genoss bis zu seinem Tod 1975 e
 ine beträchtliche Popularität in der spanischen Bevölkerung. Er kultivi
 erte ein Image als effizienter Modernisierer und ließ sich von westlichen
  Experten beraten\, doch beruhte seine Herrschaft auch auf der massenhafte
 n Verfolgung Andersdenkender und zeichnete sich durch extreme soziale Gege
 nsätze\, Korruption und Mangelwirtschaft aus. Auf Grundlage der aktuellen
  Forschung unternimmt Till Kössler in der vorliegenden Biografie eine his
 torische Neuvermessung Francos. Anschaulich und quellennah zeichnet er des
 sen Karriere nach: von den Anfängen als junger Kolonialoffizier in Marokk
 o über seinen Aufstieg zum grausamen faschistischen Alleinherrscher im Sp
 anischen Bürgerkrieg und Verbündeten der Achsenmächte im Zweiten Weltkr
 ieg bis in die Umbruchszeit der 60er und 70er Jahre.\n\nTill Kössler ist 
 Professor für Historische Erziehungswissenschaft an der Martin-Luther-Uni
 versität Halle-Wittenberg. Seine Forschungsschwerpunkte umfassen u.a. die
  Geschichte von Gewalt und Gewaltüberwindung sowie die Geschichte autorit
 ärer Regime nach 1945.
CATEGORIES:Buchpräsentation,Gespräch / Diskussion,Lesung
LOCATION:NS-Dokumentationszentrum München\, Max-Mannheimer-Platz 1\, Münc
 hen\, Bayern\, 80333\, Deutschland
GEO:48.1453664;11.567718499999955
X-APPLE-STRUCTURED-LOCATION;VALUE=URI;X-ADDRESS=Max-Mannheimer-Platz 1\, M
 ünchen\, Bayern\, 80333\, Deutschland;X-APPLE-RADIUS=100;X-TITLE=NS-Dokum
 entationszentrum München:geo:48.1453664,11.567718499999955
END:VEVENT
BEGIN:VTIMEZONE
TZID:Europe/Berlin
X-LIC-LOCATION:Europe/Berlin
BEGIN:STANDARD
DTSTART:20251026T020000
TZOFFSETFROM:+0200
TZOFFSETTO:+0100
TZNAME:CET
END:STANDARD
END:VTIMEZONE
END:VCALENDAR