BEGIN:VCALENDAR
VERSION:2.0
PRODID:-//wp-events-plugin.com//7.2.3.1//EN
TZID:Europe/Berlin
X-WR-TIMEZONE:Europe/Berlin
BEGIN:VEVENT
UID:12182@literaturseiten-muenchen.de
DTSTART;TZID=Europe/Berlin:20260130T193000
DTEND;TZID=Europe/Berlin:20260130T220000
DTSTAMP:20260112T134201Z
URL:https://www.literaturseiten-muenchen.de/veranstaltungen/grenzfall-ihr-
 grab-in-den-fluten/
SUMMARY:Krimi-Premiere-Lesung „Grenzfall – Ihr Grab in den Fluten“
DESCRIPTION:Lassen Sie sich von Bestseller-Autorin Anna Schneider auf die d
 unkle Seite der Alpen entführen!\n\nBei Oberkommissarin Alexa Jahn steht 
 das Telefon nicht still. In der Grenzregion Karwendel haben heftige Unwett
 er die Flüsse über die Ufer treten lassen\, die Wassermassen reißen all
 es mit sich. Als ein Toter in einer Schlucht gefunden wird\, stellen die E
 insatzkräfte fest\, dass der Mann nicht ertrunken ist. Er wurde ermordet.
  Wer hat das Chaos ausgenutzt\, um ihn zu töten?\n\nMit: Anna Schneider &
 amp\; Barbara Weiß (Moderation)\n\nEintritt:\nFair-Preis 15\,00 €\nMid-
 Preis 10\,00 €\nSozial-Preis 5\,00 €\n\nReservierungen: An der Abendka
 sse und unter service@libro-fantastico.de\n\nDie Veranstaltung findet in K
 ooperation mit der Buchhandlung libro fantastico statt.
CATEGORIES:Buchpräsentation,Lesung
LOCATION:Neue Ziegelei - Zentrum für Soziales und Kultur\, Ruth-Drexel-Str
 . 34\, München\, 81927\, Deutschland
GEO:48.163587;11.630843
X-APPLE-STRUCTURED-LOCATION;VALUE=URI;X-ADDRESS=Ruth-Drexel-Str. 34\, Münc
 hen\, 81927\, Deutschland;X-APPLE-RADIUS=100;X-TITLE=Neue Ziegelei - Zentr
 um für Soziales und Kultur:geo:48.163587,11.630843
END:VEVENT
BEGIN:VTIMEZONE
TZID:Europe/Berlin
X-LIC-LOCATION:Europe/Berlin
BEGIN:STANDARD
DTSTART:20251026T020000
TZOFFSETFROM:+0200
TZOFFSETTO:+0100
TZNAME:CET
END:STANDARD
END:VTIMEZONE
END:VCALENDAR