BEGIN:VCALENDAR
VERSION:2.0
PRODID:-//wp-events-plugin.com//7.2.3.1//EN
TZID:Europe/Berlin
X-WR-TIMEZONE:Europe/Berlin
BEGIN:VEVENT
UID:11655@literaturseiten-muenchen.de
DTSTART;TZID=Europe/Berlin:20251024T170000
DTEND;TZID=Europe/Berlin:20251024T200000
DTSTAMP:20250828T131927Z
URL:https://www.literaturseiten-muenchen.de/veranstaltungen/grimm-reloaded
 -maerchen-neu-erzaehlen-2/
SUMMARY:"Grimm reloaded" Märchen neu erzählen
DESCRIPTION:Entdecken Sie die Brüder Grimm auf andere\, kreative Art. Geme
 insam holen wir ein bekanntes Märchen in die Gegenwart und erzählen es n
 eu. Wir befreien die Figuren von ihren alten Verhaltensmustern\, geben ihn
 en ein zeitgemäßes Charakterprofil\, überarbeiten die zentralen Konflik
 te und erfinden Handlungslinien dazu. So entsteht ein aktuelles Märchen 
 à la Grimm\, das die Welt noch nie zuvor gelesen hat.\n\nKursnummer: V248
 025\n\nDozent: Felix Dünnemann\n\nTermine: 24.10.2025\, 25.10.2026\, 26.1
 0.2026\n\nGebühr: € 124\,-\n\nWeitere Informationen erhalten Sie unter:
  https://www.mvhs.de/?\n\n&nbsp\;
CATEGORIES:Schreibwerkstatt
LOCATION:MVHS im HP8\, Hans-Preißinger-Str. 8 \, München\, Deutschland\, 
 81379\, Sendling\, Deutschland
GEO:48.110833;11.553216
X-APPLE-STRUCTURED-LOCATION;VALUE=URI;X-ADDRESS=Hans-Preißinger-Str. 8 \, 
 München\, Deutschland\, 81379\, Sendling\, Deutschland;X-APPLE-RADIUS=100
 ;X-TITLE=MVHS im HP8:geo:48.110833,11.553216
END:VEVENT
BEGIN:VTIMEZONE
TZID:Europe/Berlin
X-LIC-LOCATION:Europe/Berlin
BEGIN:DAYLIGHT
DTSTART:20250330T030000
TZOFFSETFROM:+0100
TZOFFSETTO:+0200
TZNAME:CEST
END:DAYLIGHT
END:VTIMEZONE
END:VCALENDAR